BEGIN:VCALENDAR
PRODID:NingEventWidget-v1
VERSION:2.0
METHOD:PUBLISH
BEGIN:VEVENT
UID:2508951:Event:299472
DTSTAMP:20260422T105421Z
SUMMARY:Click here for FRIDAY 11/7/14 VIRGINIA BEACH EVENTS AND ENTERT
 AINMENT LISTINGS
DESCRIPTION: 11th Street Taphouse - Tennesse Wine 10pm\nAmmos Authent
 ic Greek - Happy Hour 4 to 6pm + $1 drinks with this coupon:  www.VBh
 otcoupons.com\nBoneshakers Sports Bar and Grill –  Brent Shepard 7
  to 11\nCalypso -  Feral  8pm\nChix Sea Grill -  10 pm\nChops Patio
  -  Live Music  6 to 9pm \nEagle's Nest -  Brushville 9pm\nFlip Fl
 ops - VB \"BRIAN SEWELL\" 8pm\nFroggies - Shore Drive -  Jesse Chong
  Band 9pm\nFresh Eats and Drinks - 1/2 Price Voucher\nHK on the Bay -
  Brandon Bower 10pm\nHot Tuna - DJ Steve Dotson  10pm\nIl Giardino's
 - Billy Batte 7pm *  \nJageR's -   Buckshot 9pm\nJake's Smokehouse &
  BBQ - Kids Eat Free with Paying Adult + Jesse the magician 6:30 to 
 8:30\nJerry's Restaurant and Lounge - Chesapeake - Ever After 9:30 to
  1:30am - Get Your 1/2 Price Coupon here: www.vbhotdeals.com \nKeaga
 n's - Mink n Chief \n Lucky Oyster - General Booth -    9pm\nMurph
 y's Irish Pub - Rockstar Parking\nPoppa's Pub -  Rendition 9pm  \nS
 ly Fox - Shore Drive - Happy Hour 4:30 to 7pm\nSouth Beach Grill  - 7
 10 Oil 9pm\nStan's American Bistro - Skip Friel & the Resonators 8pm\
 nTapped Gastropub - Lewis McGehee\nWaterman's -  DJ 10pm \nWing King
  Rosemont - Roosterfoot with Seth Stainback  9pm\nWing King  Kempsvi
 lle - Last Fair Deal 9pm\nWoody McGee's Barstro (Holland Rd)   1st Wo
 rld Problem 9pm\n\nSpecial Events:  \n2 for 1 Date Night at Colonial
  Shooting:  Every Friday from 5PM-8PM have a blast on DATE NIGHT with
  2 for 1 lane rentals. DETAILS HERE\n\nFor more information visit htt
 ps://vbnightlife.com/events/click-here-for-friday-11-7-14-virginia-bea
 ch-events-and-entertain
DTSTART:20141107T050000Z
DTEND:20141108T045900Z
CATEGORIES:"virginia beach", "virginia beach nightlife", "virginia bea
 ch bands", "virginia beach entertainment", "events in virginia beach",
  "things to do in virginia beach", "happy hour virginia beach"
LOCATION:Virginia Beach, VA
WEBSITE:
URL:
CONTACT:
ORGANIZER:VBdaylife.com / VBnightlife.com
ATTACH;FMTTYPE="image/jpeg":http://storage.ning.com/topology/rest/1.0/
 file/get/1664255235?profile=original
ATTENDEE;ROLE=REQ-PARTICIPANT;PARTSTAT=ACCEPTED;RSVP=TRUE;CN="VBnightl
 ife.com":https://vbnightlife.com/profile/admin
END:VEVENT
END:VCALENDAR
