BEGIN:VCALENDAR
PRODID:NingEventWidget-v1
VERSION:2.0
METHOD:PUBLISH
BEGIN:VEVENT
UID:2508951:Event:299484
DTSTAMP:20260423T120905Z
SUMMARY:Click here for FRIDAY 11/28/14 VIRGINIA BEACH EVENTS AND ENTER
 TAINMENT LISTINGS
DESCRIPTION:\nSpecial Events:  \nCountry Christmas at Hunt Club Farm 
 - Purchase discount vouchers here: www.VBhotdeals.com\nMcDonald's Hol
 iday Lights at the Beach\nLongshots Billiards & Darts- Chesapeake -  
 $5000 Dart Tournament\n \n\nLive Music & other Events:\n11th Street T
 aphouse - Seth Stainback & Roosterfoot\nAbbey Road - Pat Higgins 9pm -
  \nBoneshakers Sports Bar and Grill  - Marty Cash 8 to 12 on the pat
 io\nCalypso -  Cheap Thrills 8pm\nChicho's 29th Street - No Dreads 9p
 m\nChix Seagrill - Harrison & Friends 10pm\nChops Patio -  Skip Friel
  6 to 9pm \nEagle's Nest -  Outshyne 9:30\nFinn McCool's  -  Mike 
 DeMoss 9pm\nFroggies - Shore Drive - MILK 9pm \nFresh Eats and Drink
 s - Get your ½ price voucher here: www.VBhotdeals.com  Joe Heilman
  9pm\nGrumpy's - White Trash Circus 9pm\nHK on the Bay - Jesse Chong 
 10pm\nIl Giardino's- Billy Batte 7pm *  \nJageR's - Mack's Daddy Cirq
 ue Du Rock 9pm\nJake's Smokehouse & BBQ - Kids Eat Free with Paying A
 dult + Jesse the magician 6:30 to 8:30\nJerry's Restaurant and Lounge
  - Chesapeake - Ever After  9:30 to 1:30am - Get Your 1/2 Price Coupo
 n here: www.vbhotdeals.com \nKeagan's - Murphy's Law 10pm\nLucky Oys
 ter - Jack Becker 9pm\nMurphy's Irish Pub - Irish Happy Hour extende
 d Thursday and Friday - 11am to 7pm with 1/2 price Irish Drafts and 1
 /2 price select Irish Whiskeys\nalso Military Appreciation Day Thursd
 ay and Friday this week (normally just Friday) - buy one entree, get o
 ne half off\nSly Fox - Shore Drive - Happy Hour 4:30 to 7pm\nSouth Bea
 ch Grill  - Feral 9pm\nStan's American Bistro - Nick and Jake 8pm\nT
 empt Restaurant & Lounge - Open Mic w/ Liana Dagmar 9pm\nWing King Ros
 emont -  Nature's Child 9pm\nWing King  Kempsville - Hotcakes 9pm\nW
 oody McGee's Barstro (Holland Rd)  Beboppers & Rock  9pm\n\nFor more
  information visit https://vbnightlife.com/events/click-here-for-frida
 y-11-28-14-virginia-beach-events-and-entertai
DTSTART:20141128T050000Z
DTEND:20141129T045900Z
CATEGORIES:"virginia beach", "virginia beach nightlife", "virginia bea
 ch bands", "virginia beach entertainment", "events in virginia beach",
  "things to do in virginia beach", "happy hour virginia beach"
LOCATION:Virginia Beach, VA
WEBSITE:
URL:
CONTACT:
ORGANIZER:VBdaylife.com / VBnightlife.com
ATTACH;FMTTYPE="image/jpeg":http://storage.ning.com/topology/rest/1.0/
 file/get/1664255689?profile=original
ATTENDEE;ROLE=REQ-PARTICIPANT;PARTSTAT=ACCEPTED;RSVP=TRUE;CN="VBnightl
 ife.com":https://vbnightlife.com/profile/admin
END:VEVENT
END:VCALENDAR
