BEGIN:VCALENDAR
PRODID:NingEventWidget-v1
VERSION:2.0
METHOD:PUBLISH
BEGIN:VEVENT
UID:2508951:Event:175983
DTSTAMP:20260420T134739Z
SUMMARY:Click here for FRIDAY 11/18/11 VIRGINIA BEACH ENTERTAINMENT LI
 STINGS
DESCRIPTION:ENTERTAINMENT\n11th Street Taphouse- Ladies Night! 6:30PM 
 TO 9Â with James Deans andÂ starting Â Blame Canada- 9:30 to Close! La
 dies night til 9 pm and $5.00 Martini's all Night!\n15th Street Raw Ba
 r- Ja\nDiesel- Gridlock 64\nFinn McCools- Barefoot N' Crazy- 9PM\nGear
 ed Up- Of A Ghost-8PM\nGreen Onion- Paper Mountain Band and $5 Mojitos
 !\nGreen Parrot- Frank Laster\nHK on the Bay- Jesse Chong- 9:30PMÂ \nH
 20- Broke by Sunday- 10PM\nIL Giardino- Live entertainment in the loun
 ge w/ Mr. Billy Batte- 7PM\nJewish Mother- Papadosio- 9PM\nKegans- Bra
 ndon Bower- 10PM\nLucky Oyster- Rockstar Parking- 9PM\nPoppas Pub- Cor
 ey Daniel Band\nSalty C's- Plastic Eddie Acoustic\nScandals- Blue Lord
 s\nSouth Beach Grill- 10-Spot\nWatermans- Live Music w/MonkeyBooty\nÂ 
 \nTHEATRE/FUNDRAISERS/CONCERTS/SPORTS:\nAdmirals @ St. Johns- 6pm\nRob
 in Hixon at the Virginia Arts Festival- The Governors School Jazz Band
  and the Roy Mouth Big Bang- 8PM\nSandler Center- Ricky Skaggs- 8PM\nT
 he Little Theatre of Virginia Beach presents Jekyll & Hyde- 8PM\n\nDJâ
 €™S/KARAOKE/DANCES:\nHot Tuna- DJ Gataz\nWannaB's- KARAOKE 7 PM - 2 AM
 Â  Monday - Saturday (21 and Older)\n\nFAMILY FUN/SPECIAL EVENTS:\nFri
 day Night Hoedowns-7-10pm (Lynnhaven)\n\nHAPPY HOUR:\nCLICK HERE FOR H
 APPY HOUR DEALS\nCLICK HERE REACH OUR VENUE'S PAGE TO FIND ADDRESSES A
 ND PHONE NUMBERS OF PLACES LISTED CLICK HERE FOR OUR BAND/DJ PAGE TO F
 IND DESCRIPTION OF THE BANDS AND LINKS TO THEIR WEB PAGES\n\nFor more 
 information visit https://vbnightlife.com/events/click-here-for-friday
 -11-18-11-virginia-beach-entertainment-listi
DTSTART:20111118T050000Z
DTEND:20111119T045900Z
CATEGORIES:"virginia beach entertainment", "virginia beach nighlife", 
 "virginia beach bands"
LOCATION:\"Virginia Beach\"
WEBSITE:
URL:
CONTACT:
ORGANIZER;CN="VBnightlife.com":https://vbnightlife.com/profile/admin
ATTACH;FMTTYPE="image/jpeg":http://storage.ning.com/topology/rest/1.0/
 file/get/1664153549?profile=original
ATTENDEE;ROLE=REQ-PARTICIPANT;PARTSTAT=ACCEPTED;RSVP=TRUE;CN="VBnightl
 ife.com":https://vbnightlife.com/profile/admin
END:VEVENT
END:VCALENDAR
