BEGIN:VCALENDAR
PRODID:NingEventWidget-v1
VERSION:2.0
METHOD:PUBLISH
BEGIN:VEVENT
UID:2508951:Event:299476
DTSTAMP:20260422T175701Z
SUMMARY:Click here for FRIDAY 11/14/14 VIRGINIA BEACH EVENTS AND ENTER
 TAINMENT LISTINGS
DESCRIPTION:Abbey Road - Acoustic Dynamite 9pm\nAJ Gators Aragona (off
  Witchduck Rd) - The Deloreans 9pm\nAmmos Authentic Greek - Happy Hour
  4 to 6pm + $1 drinks with this coupon:  www.VBhotcoupons.com and 1/
 2 off dinner with this voucher:  www.VBhotdeals.com\nBoneshakers Sp
 orts Bar and Grill –  Marty Cash - Patio 8pm\nCalypso - The Get Do
 wn  8pm\nChix Sea Grill -  Good Vibes 10 pm\nEagle's Nest - Cody Aus
 tin Band\nFinn McCool's  -  Brent Shepard 10pm\nFroggies - Shore Dr
 ive - Almost Famous Band 9pm\nGrumpy's - Hotcakes 9pm\nHK on the Bay -
  Ray Meeks 10pm\nIl Giardino's- Billy Batte 7pm *  \nJageR's -  Set
 h Stainback & Roosterfoot 9pm\nJake's Smokehouse & BBQ - Kids Eat Fre
 e with Paying Adult + Jesse the magician 6:30 to 8:30\nJerry's Restau
 rant and Lounge - Chesapeake  Blackwater Jam 9:30 to 1:30am - Get Yo
 ur 1/2 Price Coupon here: www.vbhotdeals.com \nKeagan's Irish Pub - 
 Town Center VB - Jesse Chong 10pm\nKrossroads -   9pm\nLucky Oyster 
 - General Booth -    9pm\nMurphy's Irish Pub - Oceanfront - Don Bunc
 h 9pm\n Poppa's Pub - Fine Swiss Cheese 9pm  \nSly Fox - Shore Driv
 e - Happy Hour 4:30 to 7pm\nSouth Beach Grill  - Riverboyz 9pm\nStan'
 s American Bistro - 2 Arms of Flight 9pm\nTapped Gastropub (hilltop) 
 - Skip Friel 9pm\nWaterman's -  Brian Grilli & The Southern Prophets 
 10pm \nWing King Rosemont - RIO 9pm\nWing King  Kempsville - Asphalt
  Jungle 9pm\nWoody McGee's Barstro (Holland Rd)    9pm\n\nSpecial Ev
 ents:  Bodacious Bazaar in Hampton 10 to 5\n\nFor more information vi
 sit https://vbnightlife.com/events/click-here-for-friday-11-14-14-virg
 inia-beach-events-and-entertai
DTSTART:20141114T050000Z
DTEND:20141115T045900Z
CATEGORIES:"virginia beach", "virginia beach nightlife", "virginia bea
 ch bands", "virginia beach entertainment", "events in virginia beach",
  "things to do in virginia beach", "happy hour virginia beach"
LOCATION:Virginia Beach, VA
WEBSITE:
URL:
CONTACT:
ORGANIZER:VBdaylife.com / VBnightlife.com
ATTACH;FMTTYPE="image/jpeg":http://storage.ning.com/topology/rest/1.0/
 file/get/1664255294?profile=original
ATTENDEE;ROLE=REQ-PARTICIPANT;PARTSTAT=ACCEPTED;RSVP=TRUE;CN="VBnightl
 ife.com":https://vbnightlife.com/profile/admin
END:VEVENT
END:VCALENDAR
