BEGIN:VCALENDAR
PRODID:NingEventWidget-v1
VERSION:2.0
METHOD:PUBLISH
BEGIN:VEVENT
UID:2508951:Event:175975
DTSTAMP:20260420T134738Z
SUMMARY:Click here for FRIDAY 11/11/11 VIRGINIA BEACH ENTERTAINMENT LI
 STINGS
DESCRIPTION:ENTERTAINMENT:\n11th Street Taphouse- Ladies Night- Brent 
 Shepard from 6:30PM to 9:00PM, and at 9:30 is Everlasting Lounge to C
 lose! \n15th Street Raw Bar- Audio Sauce\n501 City Grill- Rich Whiske
 y- 8:30PM\nAbbey Road- Jon Phesant\nBaker Street- Hotcakes\nCalypso- B
 orderline Crazy- 9:30PM\nCatch 31 – Dance Party w/ DJ Bryan One- 10P
 M\nFinn McCools- Brandon Bower- 8PM\nGreen Onion- Melanie Howdershell 
 and $5 Mojitos!\nH20- The Deloreans- 10PM\nHK On the Bay- Almost Famou
 s Band\nIL Giardino- Live entertainment in the lounge w/ Mr. Billy Bat
 te- 7PM\nJewish Mother- John Brown's Body + The Supervillans + Session
  Rockers- 9PM\nKegans- Barefoot n' Crazy- 10PM\nKnuckleheads- Jesse Ch
 ong\nLucky Oyster- Steve Forss- 9PM\nRuth's Chris Steakhouse- 2nd Annu
 al Wild Game Dinner- 6:30PM\nSouth Beach Grill- Gridlock 64\nWatermans
 - Live Music w/ The Get Down\n \nTHEATRE/FUNDRAISERS/CONCERTS/SPORTS:
 \nAdmirals @ Albany- 7PM\nSharx vs. Syracuse- 7PM\nSandler Center- Gla
 dys Knight- 8PM\nThe Little Theatre of Virginia Beach presents Jekyll 
 & Hyde-8PM\n \nDJ’S/KARAOKE/DANCES:\n21st St. Tiki Bar - *KARAOKE* 
 Awful Arthur’s - *KARAOKE*\nBrass Bell - *KARAOKE* 9PM\nGreen Parrot
  – *OPEN MIC*\nHot Tuna- DJ: CanRock- 10PM\nWannaB's- KARAOKE 7 PM -
  2 AM  Monday - Saturday (21 and Older)\n \nFAMILY FUN/SPECIAL EVENT
 S:\nFriday Night Hoedowns-7-10pm (Lynnhaven)\nVeterans Day Parade\n \
 nHAPPY HOUR: \n11th Street Taphouse– bogo half-a-tizers 4-9pm, $5
 .00 Martini's for the ladies and $2.00 Domestic Beer for all!\n15th S
 treet Raw Bar – clams .50 oysters .75 3-7pm, ny strip + 2 sides = 
 $13.99\n21st Street Tiki Bar - $2 domestics, $2.50 imports & well d
 rinks, large pizza + pitcher beer = $13.99 4-9pm || $1 jello shots, $1
 .50 mickeys/pbr/natty, $4 jager/fireball/flavored vodka monster bombs\
 nChicho’s Pizza 29th Street - $2 wells & domestics, $5 pitchers 4-9
 pm, $1 wells 9-10:30pm, $2 wells 10:30-cl || $1 cheese pizza slice, $6
 .99 large cheese pizza\nChix Sea Grill and Bar (7th Street) - $6.50 
 lunch specials\n \nCLICK HERE FOR MORE HAPPY HOUR DEALS\n \nCLICK HE
 RE REACH OUR VENUE'S PAGE TO FIND ADDRESSES AND PHONE NUMBERS OF PLAC
 ES LISTED CLICK HERE FOR OUR BAND/DJ PAGE TO FIND DESCRIPTION OF THE 
 BANDS AND LINKS TO THEIR WEB PAGES\n \nBookings can change at the las
 t minute, so we recommend checking with the venue before heading out!\
 n\nFor more information visit https://vbnightlife.com/events/click-her
 e-for-friday-11-11-11-virginia-beach-entertainment-listi
DTSTART:20111111T050000Z
DTEND:20111112T045900Z
CATEGORIES:"virginia beach entertainment", "virginia beach bands", "vi
 rginia beach"
LOCATION:\"Virginia Beach\"
WEBSITE:
URL:
CONTACT:
ORGANIZER;CN="VBnightlife.com":https://vbnightlife.com/profile/admin
ATTACH;FMTTYPE="image/jpeg":http://storage.ning.com/topology/rest/1.0/
 file/get/1664154660?profile=original
ATTENDEE;ROLE=REQ-PARTICIPANT;PARTSTAT=ACCEPTED;RSVP=TRUE;CN="VBnightl
 ife.com":https://vbnightlife.com/profile/admin
END:VEVENT
END:VCALENDAR
