BEGIN:VCALENDAR
PRODID:NingEventWidget-v1
VERSION:2.0
METHOD:PUBLISH
BEGIN:VEVENT
UID:2508951:Event:172239
DTSTAMP:20260420T122814Z
SUMMARY:Click here for FRIDAY 10/07/11 VIRGINIA BEACH ENTERTAINMENT LI
 STING
DESCRIPTION:ENTERTAINMENT:\n11th Street Taphouse- Ladies Night w/Live 
 Entertainment- 6-9pm, Everlasting Lounge 9:30PM\n15th St. Raw Bar- DOU
 G DUNN AND STEEL RIVER BAND-9pm-1am\nIL Giardino- Live Entertainment w
 / Mr. Billy Batte\nKegans- Brandon Bower-10PM\nSouth Beach Grill - Wai
 l til Friday\nFirst Fridays Art Walk\nFinn McCools - Barefoot N Crazy\
 nGreen Parrot -Joe Heilman\nKnuckleheads â€“ Vinyl Headlights\nPoppa's
  Pub â€“ Gatorhead\nShore Break - Lewis McGehee\nWaterman's - \"Lead 8
 6\"\n DJâ€™S/KARAOKE/DANCES:\n21st St. Tiki Bar - *KARAOKE* Awful Arth
 urâ€™s - *KARAOKE*\nBrass Bell - *KARAOKE* 9PM\nCatch 31 â€“ *LIVE DJ*
  Â 11PM\nGreen Parrot â€“ *OPEN MIC*\nWannaB's- KARAOKE 7 PM - 2 AM Â 
 Monday - Saturday (21 and Older)\nDanceport- BALLROOM DANCE STUDIOÂ PA
 RTY 8-10pm\n\nFAMILY FUN/SPECIAL EVENTS:\nFriday Night Hoedowns-7-10pm
  (Lynnhaven)\nFirst Fridays Art Walk-5pm (Town Center)\nÂ \nHAPPY HOUR
 :\n11thÂ StreetÂ TaphouseÂ â€“ bogo half-a-tizers 4-9pm\n15thÂ StreetÂ
  Raw BarÂ â€“ clams .50 oysters .75 3-7pm, ny strip + 2 sides = $13.99
 \n21stÂ StreetÂ Tiki BarÂ - $2 domestics, $2.50 imports & well drinks,
  large pizza + pitcher beer = $13.99 4-9pm || $1 jello shots, $1.50 mi
 ckeys/pbr/natty, $4 jager/fireball/flavored vodka monster bombs\nCLICK
  HERE FOR MORE HAPPY HOUR DEALS\nCLICK HERE REACH OUR VENUE'S PAGEÂ TO
  FIND ADDRESSES AND PHONE NUMBERS OF PLACES LISTED CLICK HERE FOR OUR 
 BAND/DJ PAGEÂ TO FIND DESCRIPTION OF THE BANDS AND LINKS TO THEIR WEB 
 PAGES\n\nFor more information visit https://vbnightlife.com/events/cli
 ck-here-for-friday-10-07-11-virginia-beach-entertainment-listi
DTSTART:20111007T040000Z
DTEND:20111008T035900Z
CATEGORIES:virginia, beach, entertainment, bands, nightlife
LOCATION:Virginia Beach
WEBSITE:
URL:
CONTACT:
ORGANIZER;CN="VBnightlife.com":https://vbnightlife.com/profile/admin
ATTACH;FMTTYPE="image/jpeg":http://storage.ning.com/topology/rest/1.0/
 file/get/1664153105?profile=original
ATTENDEE;ROLE=REQ-PARTICIPANT;PARTSTAT=ACCEPTED;RSVP=TRUE;CN="VBnightl
 ife.com":https://vbnightlife.com/profile/admin
END:VEVENT
END:VCALENDAR
