BEGIN:VCALENDAR
PRODID:NingEventWidget-v1
VERSION:2.0
METHOD:PUBLISH
BEGIN:VEVENT
UID:2508951:Event:322878
DTSTAMP:20260423T112037Z
SUMMARY:Click here for FRIDAY 1/1/16 VIRGINIA BEACH EVENTS AND ENTERTA
 INMENT LISTINGS
DESCRIPTION:\nSpecial Events\nFirst Friday Vibe in the Creative Distr
 ict http://vbnightlife.com/events/first-friday-vibe-in-the-creative-d
 istrict\nAdventure Park at the Virginia Aquarium - Glow in the Park
   4 to 9\nColonial Shooting Academy: Date Night - 2 for 1 lane renta
 l\nMuseum of Contemporary Art (MOCA) - Now on Exhibit\n \nLive Music
  & Events\n501 City Grill - Birdneck Road - Harrison Bounds 9p\nAbbey 
 Road Pub - Jackson LeBeau 9p\nBella Monte Restaurant & Enoteca - 120
 1 Laskin Rd - Charlie Wiseman on 9-foot concert grand piano 7 to 10
 p\nBoneshakers Sports Bar and Grill -  Live Music 8p on the patio\nC
 alypso Bar & Grill -  Jesse Chong Band 10p \nChops - Oceanfront - 
  Live Music 6 to 9p\nEagles Nest - Hilltop - Josh Phillips 9:30p\nFre
 sh Eats & Drinks - General Booth -  Live Music TBA 9p \nFroggie's Ca
 ntina By The Bay - Shore Drive - Asphalt Jungle 8:30p\nJerry's Restau
 rant & Lounge - Chespeake - Open for breakfast at 7am\nKeagan's Irish 
 Pub -Town Center - Action Jackson 10p\nLongshots Billiards & Darts- Ch
 esapeake- $5000 Dart Tournament\nMurphy's Irish Pub -  Powers & McLa
 ughlin 9p\nRY Lounge - Oceanfront - Feel Good Friday w/ DJ E Shorty 1
 0p\nSouth Beach Grill - Childz Play 9p\nTapped Gastropub -  Hilltop 
 - Live Music TBA 10p\nWaterman's - Atlantic Ave - Open early at 10a to
  2p for New Year's Day Brunch & Kasey Rae Band 10p\nWing King - Rosemo
 nt - Ax To Grind 9p COUPON\nWing King - Centerville - Typecast 9p COUP
 ON\nWoody McGees - Holland Road -  Live Music TBA 9p\n\nFor more info
 rmation visit https://vbnightlife.com/events/click-here-for-friday-1-1
 -16-virginia-beach-events-and-entertainm
DTSTART:20160101T050000Z
DTEND:20160102T045900Z
CATEGORIES:"virginia beach", "virginia beach nightlife", "virginia bea
 ch bands", "virginia beach entertainment", "events in virginia beach",
  "things to do in virginia beach", "happy hour virginia beach"
LOCATION:Virginia Beach, VA
WEBSITE:
URL:
CONTACT:
ORGANIZER:VBdaylife.com / VBnightlife.com
ATTACH;FMTTYPE="image/jpeg":http://storage.ning.com/topology/rest/1.0/
 file/get/1664297331?profile=original
ATTENDEE;ROLE=REQ-PARTICIPANT;PARTSTAT=ACCEPTED;RSVP=TRUE;CN="VBnightl
 ife.com":https://vbnightlife.com/profile/admin
END:VEVENT
END:VCALENDAR
