BEGIN:VCALENDAR
PRODID:NingEventWidget-v1
VERSION:2.0
METHOD:PUBLISH
BEGIN:VEVENT
UID:2508951:Event:171868
DTSTAMP:20260420T170646Z
SUMMARY:Click here for All Concerts at Major Area Venues
DESCRIPTION:Tuesday, November 8th, Furthur, John Paul Jones Arena, 7PM
 \nThursday, November 10th, Jeff Dunham, John Paul Jones Arena, 7:30 PM
 \nFriday, November 11th, Katt Williams, Richmond Coliseum, 8PM\nFriday
 , November 11th, Robert Randolph & the Family Band, The National, 8PM\
 nFriday, November 11th, Straight No Chaser, Chrysler Hall, 8PM\nFriday
 , November 11th, The Fighting Jamesons, The Norva, 8PM\nBayside/Saves 
 The Day, The Norva, Norfolk, VA, Sat, 11/12/11, 07:30 PM\nJason Bonham
 's Led Zeppelin Experience, The National, Richmond, VA, Sat, 11/12/11,
  08PM PM\nCarbon Leaf, Jefferson Theater, Charlottesville, VA, Sat, 11
 /12/11, 09PM\nSaturday, November 13th, Hank 3 with HellBilly & Attenti
 on Deficit Domination, The National, 8PM\nSaturday, November 13th, Joe
  Bonamassa, Landmark Theater, 8PM\nSaturday, November 13th, moe., Jeff
 erson Theater, 8PM\nMonday, November 14th, OWL CITY, The Norva, 7:30 P
 M\nTuesday, November 15th, All Time Low with The Ready Set, He is We, 
 The Norva, 7PM\nWednesday, November 16th, PacTour Pres Manchester Orch
 estra, White Denim, The Dear Hunter, The National, 7:30 PM\nWednesday 
 Novermber 16th, The New Mastersounds, Jefferson Theater, 9PM\nThursday
 , November 17th, Method Man & Curren$y with Big Krit, Smoke DZA, The P
 ricks, The National, 8PM\nThursday, November 17th, Who's Bad, Jefferso
 n Theater, 8PM\nFriday, November 18th, Corey Smith, The National, 8PM\
 nFriday, November 18th,Method Man and Curren$y with Big Krit, Smoke DZ
 A, The Pricks, The Norva, Norfolk, 8PM\nSaturday, November 19th, Hampt
 on Funk Fest, Hampton Coliseum, 7PM\nSaturday, November 19th, Virginia
  Symphony: Capriccio Italien featuring Beverly Baker; viola, Chrysler 
 Hall, 8PM\nSaturday, November 19th, Future Rock With Playlow, The Nati
 onal, 9PM\nSunday, November 20th, RHYTHM PROJECT ALL STARS,TCC Roper P
 erforming Arts Center,\n5:30 PM               \nSunday,
  November 20th, The Ap Tour Feat Four Year Strong, Gallows, Title Figh
 t,Swellers, Shark,\nThe Norva, 6:30 PM\nFriday, November 25th, Carbon 
 Leaf, The National, 8PM\nFriday, November 25th, Groove Train, Jefferso
 n Theater, 8PM\nSaturday, November 26th, An Evening with Skip Castro,T
 he National, 8PM\nSaturday, November 26th, Hackensaw Boys, Jefferson T
 heater, 9PM\nSunday, November 27th, Rakim, The Norva, 7PM\nMonday, Nov
 ember 28th, Mushroomhead With One Eyed Doll, Human Factor Lab, Tenafly
  Viper, The National, 6:30 PM\nMonday, November 28th, Mastodon, The No
 rva, 7PM\nTuesday, November 29th, Miss May I and Pierce the Veil ,The 
 Norva, 6:30 PM\nTuesday, November 29th, Mac Miller with Pac Div, Casey
  Veggies, The National, 7:30 PM\nWednesday, November 30th, Trans-Siber
 ian Orchestra - Winter Tour 2011, Richmond Coliseum, 4PM\n \n\nFor mo
 re information visit https://vbnightlife.com/events/click-here-for-all
 -concerts-at-major-area-venues
DTSTART:20111115T050000Z
DTEND:20111117T045900Z
CATEGORIES:"virginia beach entertainment", "virginia beach music", "vi
 rginia beach major concerts", "national tours"
LOCATION:Virginia Beach, Norfolk, Chesapeake, Portsmouth
WEBSITE:
URL:
CONTACT:
ORGANIZER;CN="VBnightlife.com":https://vbnightlife.com/profile/admin
ATTACH;FMTTYPE="image/jpeg":http://storage.ning.com/topology/rest/1.0/
 file/get/1664154794?profile=original
ATTENDEE;ROLE=REQ-PARTICIPANT;PARTSTAT=ACCEPTED;RSVP=TRUE;CN=Chenley:h
 ttps://vbnightlife.com/profile/Chenley
ATTENDEE;ROLE=REQ-PARTICIPANT;PARTSTAT=ACCEPTED;RSVP=TRUE;CN="VBnightl
 ife.com":https://vbnightlife.com/profile/admin
END:VEVENT
END:VCALENDAR
