BEGIN:VCALENDAR
PRODID:NingEventWidget-v1
VERSION:2.0
METHOD:PUBLISH
BEGIN:VEVENT
UID:2508951:Event:176073
DTSTAMP:20260420T134723Z
SUMMARY:Click here for SUNDAY 11/13/11 VIRGINIA BEACH ENTERTAINMENT LI
 STINGS
DESCRIPTION:Baker Street-NFL-Sunday-1pm\n11th Street Taphouse- Sunday 
 FUNDAY- 12PM-3PM\nBaker Street-NFL Sunday Ticket-1pm\nIL Giardino- 2 f
 or 1 Entrees!\nJewish Mother- Lynn Summerall's Hotel Paradise Orchestr
 a- 4PM\nMurphy's- Karl Werne\nSouth Beach Grill- Dave & Kate\n\nTHEATR
 E/FUNDRAISERS/CONCERTS/SPORTS:\nThe Little Theatre of Virginia Beach p
 resents Jekyll & Hyde- 2:30PM\n \nDJ’S/KARAOKE/DANCES:\nFat Tuesday
 ’s - *KARAOKE* Funny Bone Comedy Club - DJ DOYOTHANG\nKeagan’s –
  *KARAOKE*-9pm\nPoppa’s Pub - *KARAOKE* 9:30PM\n\nReef Lounge - *KAR
 AOKE*  9PM\nRetro Café – DJ RAW BASE  10PM\n\nHappy Hour:\n11th S
 treet Taphouse – bogo half-a-tizers 4-9pm\n15th Street Raw Bar – c
 lams .50 oysters .75 3-7pm, ny strip + 2 sides = $13.99\n21st Street T
 iki Bar - $2 domestics, $2.50 imports & well drinks, large pizza + pit
 cher beer = $13.99 4-9pm || $1 jello shots, $1.50 mickeys/pbr/natty, $
 4 jager/fireball/flavored vodka monster bombs\nChicho’s Pizza 29th S
 treet - $2 wells & domestics, $5 pitchers 4-9pm, $1 wells 9-10:30pm, $
 2 wells 10:30-cl || $1 cheese pizza slice, $6.99 large cheese pizza\nC
 hix Sea Grill and Bar (7th Street) - $6.50 lunch specials\nCLICK HERE 
 TO REACH OUR VENUE'S PAGE TO FIND ADDRESSES AND PHONE NUMBERS OF PLA
 CES LISTED\n\nCLICK HERE FOR OUR BAND/DJ PAGE TO\nFIND DESCRIPTION OF
  THE BANDS AND LINKS TO THEIR WEB PAGES\n \nBookings can change at th
 e last minute, so we recommend checking with the venue before heading 
 out!\n\nFor more information visit https://vbnightlife.com/events/clic
 k-here-for-11-13-11-virginia-beach-entertainment-listings
DTSTART:20111113T050000Z
DTEND:20111114T045900Z
CATEGORIES:"virginia beach entertainment", "virginia beach nightlife",
  "virginia beach bands"
LOCATION:\"Virginia Beach\"
WEBSITE:
URL:
CONTACT:
ORGANIZER;CN="VBnightlife.com":https://vbnightlife.com/profile/admin
ATTACH;FMTTYPE="image/jpeg":http://storage.ning.com/topology/rest/1.0/
 file/get/1664154264?profile=original
ATTENDEE;ROLE=REQ-PARTICIPANT;PARTSTAT=ACCEPTED;RSVP=TRUE;CN="VBnightl
 ife.com":https://vbnightlife.com/profile/admin
END:VEVENT
END:VCALENDAR
