BEGIN:VCALENDAR
PRODID:NingEventWidget-v1
VERSION:2.0
METHOD:PUBLISH
BEGIN:VEVENT
UID:2508951:Event:186156
DTSTAMP:20260423T091012Z
SUMMARY:Click here for THURSDAY 1/19/12 VIRGINIA BEACH ENTERTAINMENT L
 ISTINGS
DESCRIPTION:ENTERTAINMENT\n11th Street Taphouse- Brent Shepard, 7-10PM
  for Restaurant Week\nAbbey Road- Magical Mystical Tour\nBoneshakers -
  Spider Love 8 to 11 + Prime Rib night every Thursday $1.50 oz cut to 
 order -Happy Hour 3 to 7\nCinema Cafe (Pembroke)- Comedy Night, 9-11PM
 \nCobalt Grill- Live Jazz\nCrocs- Hey Hey Hooligans\nClutch- Live Ente
 rtainment\nDiesel- Diesel Mug Night\nDoc Taylors- Blackfoot Gypsies, 8
 :30PM\nFlashbacks- Billy Joe Trio (Every Thursday)\nFresh Tapas and To
 nics- Blue Mile Band, 8PM\nGuadalajara - (Town Center) Throwback Thurs
 day with DJ Bee 10pm  (every thursday)\nHavana Nights- Steve Kessler 
 Quartet, 8-11PM\nH20- Jesse Chong, 10PM\nIcehouse - Brent Shepard, 9PM
  (Every Thursday this Month), 9PM\nIL Giardino- Live Entertainment in 
 the lounge w/ Mr. Billy Batte- 7PM\nKeagans- Steve Forss, 10PM\nLunase
 a- Live Music\nMurphys- The Havers, 9PM\nO'Learys- (Lynnhaven Dr) Serv
 ice Industry Night, 10PM\nSalty C's- (Shore Dr) Open Mic\nTodd Jurich'
 s Burger Bar - Live Music\n\nTHEATRE/FUNDRAISERS/CONCERTS/SPORTS:\nChr
 ysler Hall- Death and the Maiden, 8PM\nFunnybone- Christopher Titus, 8
 PM\nWells Theatre- Black Pearl Sings, 7PM\n\nDJ’S/KARAOKE/DANCES:\nR
 etro Cafe- Karaoke\nChicho’s 29th - *KARAOKE\nPoppa’s Pub - *KARAO
 KE* 9:30PM\nJewish Mother- MOMS KARAOKE 8pm\nWannaB's- KARAOKE 7 PM - 
 2 AM  Monday - Saturday (21 and Older)\n \nFAMILY FUN/SPECIAL EVENTS
 \nVirginia Beach Restaurant Week Featuring the 11th Street Taphouse wi
 th Brent Shepard\nSandler Center- Martin Short\nLittle Theatre of Virg
 inia Beach- Getting Away with Murder (through February 5th)\nCLICK HER
 E FOR HAPPY HOUR DEALS\nCLICK HERE REACH OUR VENUE'S PAGE\nCLICK HERE 
 FOR OUR BAND/DJ PAGE\n\nFor more information visit https://vbnightlife
 .com/events/click-her-for-thursday-1-19-12-virginia-beach-entertainmen
 t-listi
DTSTART:20120119T050000Z
DTEND:20120120T045900Z
CATEGORIES:"virginia beach bands", "virginia beach entertainment", "vi
 rginia beach nightlife"
LOCATION:Virginia Beach
WEBSITE:
URL:
CONTACT:
ORGANIZER;CN="VBnightlife.com":https://vbnightlife.com/profile/admin
ATTACH;FMTTYPE="image/jpeg":http://storage.ning.com/topology/rest/1.0/
 file/get/1664156502?profile=original
ATTENDEE;ROLE=REQ-PARTICIPANT;PARTSTAT=ACCEPTED;RSVP=TRUE;CN="VBnightl
 ife.com":https://vbnightlife.com/profile/admin
END:VEVENT
END:VCALENDAR
