BEGIN:VCALENDAR
PRODID:NingEventWidget-v1
VERSION:2.0
METHOD:PUBLISH
BEGIN:VEVENT
UID:2508951:Event:194824
DTSTAMP:20260422T031328Z
SUMMARY:DINING OUT FOR LIFE AT THE SURF CLUB OCEAN GRILLE
DESCRIPTION:Make one meal matter!\nJoin me as Ambassador, and Linda Fr
 antz as Co- Ambassador on Thursday April 26th, 2012 at “The Surf Clu
 b” at the Wyndham on 57th Street for the 8th annual Dining Out For L
 ife. This annual fundraising event, involves the generous participatio
 n of local restaurants who donate at least 25...% of their evenings pr
 ofits to benefit ACCESS AIDS CARE which provides medical case manageme
 nt, housing, meals, transportation, children's services, outreach and 
 more to Hampton Roads residents impacted by HIV/AIDS.\n \nCome join m
 e, bring a friend, have a meal and make a difference.\n \nFor reserva
 tions call The Surf Club @ 425-5699 http://www.surfclubvabeach.com/;\n
  \nhttp://accessaids.org/site/index.php/special-events.html\n \n\n\n
 For more information visit https://vbnightlife.com/events/cindy-caskey
DTSTART:20120426T210000Z
DTEND:20120427T020000Z
CATEGORIES:fund, raiser
LOCATION:The Surf Club at The Wyndham
WEBSITE:http://www.surfclubvabeach.com/;
URL:http://www.surfclubvabeach.com/;
CONTACT:757-425-5699
ORGANIZER:Cindy Caskey / VBNIGHTLIFE
ATTACH;FMTTYPE="image/jpeg":http://storage.ning.com/topology/rest/1.0/
 file/get/1664168529?profile=original
ATTENDEE;ROLE=REQ-PARTICIPANT;PARTSTAT=ACCEPTED;RSVP=TRUE;CN="Cindy Ca
 skey":https://vbnightlife.com/profile/CindyCakey
END:VEVENT
END:VCALENDAR
