BEGIN:VCALENDAR
PRODID:NingEventWidget-v1
VERSION:2.0
METHOD:PUBLISH
BEGIN:VEVENT
UID:2508951:Event:12741
DTSTAMP:20260425T142705Z
SUMMARY:CINCO DE MAYO PARTY @ COZUMEL FEATURING BUTTER
DESCRIPTION:\nButter plays 5-9pm in the parking lot then DJ Luv after\
 n(Cozumel is formerly 32 Degrees on General Booth)\n\nFor more informa
 tion visit https://vbnightlife.com/events/cinco-de-mayo-party-cozumel
DTSTART:20090505T210000Z
DTEND:20090506T010000Z
CATEGORIES:band, dj
LOCATION:Cozumel
WEBSITE:
URL:
CONTACT:
ORGANIZER;CN="Nicole Maxino":https://vbnightlife.com/profile/NicoleMax
 ino
ATTACH;FMTTYPE="image/jpeg":http://storage.ning.com/topology/rest/1.0/
 file/get/1664075441?profile=original
ATTENDEE;ROLE=REQ-PARTICIPANT;PARTSTAT=ACCEPTED;RSVP=TRUE;CN="Nicole M
 axino":https://vbnightlife.com/profile/NicoleMaxino
END:VEVENT
END:VCALENDAR
