BEGIN:VCALENDAR
PRODID:NingEventWidget-v1
VERSION:2.0
METHOD:PUBLISH
BEGIN:VEVENT
UID:2508951:Event:12981
DTSTAMP:20260425T160351Z
SUMMARY:CINCO DE MAYO FIESTA AND FUNDRAISER
DESCRIPTION:Renaissance Place merchants are hosting a fundraiser to be
 nefit the Foodbank of Southeast Virginia. The event begins @ 6pm at Ca
 rdioXtreme, 401 N. Great Neck Road. It features chocolate samples from
  Schakolad, Tropical smoothies, demonstrations of Zumba Fitness dance 
 and indoor cycling and more. Raffle tickets for prizes and services wi
 ll be sold to benefit the food bank.\n\nFor more information visit htt
 ps://vbnightlife.com/events/cinco-de-mayo-fiesta-and
DTSTART:20090505T220000Z
DTEND:20090506T020000Z
CATEGORIES:fundraiser
LOCATION:Renaissance Place
WEBSITE:
URL:
CONTACT:
ORGANIZER;CN="Nicole Maxino":https://vbnightlife.com/profile/NicoleMax
 ino
ATTACH;FMTTYPE="image/jpeg":
ATTENDEE;ROLE=REQ-PARTICIPANT;PARTSTAT=ACCEPTED;RSVP=TRUE;CN="Nicole M
 axino":https://vbnightlife.com/profile/NicoleMaxino
END:VEVENT
END:VCALENDAR
