BEGIN:VCALENDAR
PRODID:NingEventWidget-v1
VERSION:2.0
METHOD:PUBLISH
BEGIN:VEVENT
UID:2508951:Event:209234
DTSTAMP:20260423T133439Z
SUMMARY:CHRISTMAS PARTY AT TAYST W/ THE HARK
DESCRIPTION:\n\nFor more information visit https://vbnightlife.com/eve
 nts/christmas-party-at-tayst-w-the-hark
DTSTART:20121201T050000Z
DTEND:20121202T045900Z
CATEGORIES:"christmas party"
LOCATION:TAYST RESTAURANT
WEBSITE:
URL:
CONTACT:
ORGANIZER;CN="VBnightlife.com":https://vbnightlife.com/profile/admin
ATTACH;FMTTYPE="image/jpeg":http://storage.ning.com/topology/rest/1.0/
 file/get/1664183057?profile=original
ATTENDEE;ROLE=REQ-PARTICIPANT;PARTSTAT=ACCEPTED;RSVP=TRUE;CN="VBnightl
 ife.com":https://vbnightlife.com/profile/admin
END:VEVENT
END:VCALENDAR
