BEGIN:VCALENDAR
PRODID:NingEventWidget-v1
VERSION:2.0
METHOD:PUBLISH
BEGIN:VEVENT
UID:2508951:Event:187645
DTSTAMP:20260423T145754Z
SUMMARY:CHILDREN'S THEATRE OF HAMPTON ROADS
DESCRIPTION:\n\nFor more information visit https://vbnightlife.com/eve
 nts/children-s-theatre-of-hampton-roads
DTSTART:20120122T190000Z
DTEND:20120122T210000Z
CATEGORIES:family, "/", children
LOCATION:MEYERA OBERNDORF CENTRAL LIBRARY
WEBSITE:
URL:
CONTACT:
ORGANIZER;CN="VBnightlife.com":https://vbnightlife.com/profile/admin
ATTACH;FMTTYPE="image/jpeg":http://storage.ning.com/topology/rest/1.0/
 file/get/1664160168?profile=original
ATTENDEE;ROLE=REQ-PARTICIPANT;PARTSTAT=ACCEPTED;RSVP=TRUE;CN="Rolan St
 ears":https://vbnightlife.com/profile/RolanStears
ATTENDEE;ROLE=REQ-PARTICIPANT;PARTSTAT=ACCEPTED;RSVP=TRUE;CN="VBnightl
 ife.com":https://vbnightlife.com/profile/admin
END:VEVENT
END:VCALENDAR
