BEGIN:VCALENDAR
PRODID:NingEventWidget-v1
VERSION:2.0
METHOD:PUBLISH
BEGIN:VEVENT
UID:2508951:Event:6722
DTSTAMP:20260422T073549Z
SUMMARY:CHICHO'S PARTY BUS NORFOLK - ODU - OCEANFRONT - GRANBY - CHICH
 OS ODU
DESCRIPTION:9PM TO 2AM\n\nWednesday March 4, 2009 is a day that will f
 orever live in our minds. It's the return of the Chichos Party Bus. Th
 is year we have a 57 passenger bus that will charter us to the va beac
 h ocean front, granby street, and back to chichos for last call. Ticke
 ts are only $20, which will cover your seat on the bus, and free booze
  on the bus. Seats are going fast so contact me asap for tickets. If y
 ou would like to go, give me a call so I can reserve you a seat. I nee
 d everybody's $20 by Friday 2/27/2009\nPhotos\n\nFor more information 
 visit https://vbnightlife.com/events/chichos-party-bus-norfolk-odu
DTSTART:20090304T050000Z
DTEND:20090305T045900Z
CATEGORIES:party, bus
LOCATION:Norfolk/ Virginia Beach
WEBSITE:
URL:
CONTACT:7574706211
ORGANIZER;CN="Nicole Maxino":https://vbnightlife.com/profile/NicoleMax
 ino
ATTACH;FMTTYPE="image/jpeg":http://storage.ning.com/topology/rest/1.0/
 file/get/1664069318?profile=original
ATTENDEE;ROLE=REQ-PARTICIPANT;PARTSTAT=ACCEPTED;RSVP=TRUE;CN="Nicole M
 axino":https://vbnightlife.com/profile/NicoleMaxino
END:VEVENT
END:VCALENDAR
