BEGIN:VCALENDAR
PRODID:NingEventWidget-v1
VERSION:2.0
METHOD:PUBLISH
BEGIN:VEVENT
UID:2508951:Event:13082
DTSTAMP:20260425T160048Z
SUMMARY:CHICHOS BEACH
DESCRIPTION:Tonight cinco de Mayo @ chichos $2 tequila shots and $2 ma
 rgaritas all nightlong, get out and see Mike and Russel\n\nFor more in
 formation visit https://vbnightlife.com/events/chichos-beach-1
DTSTART:20090505T040000Z
DTEND:20090506T035900Z
CATEGORIES:cinco, de, mayo
LOCATION:Chicho's Oceanfront
WEBSITE:
URL:
CONTACT:
ORGANIZER;CN="Nicole Maxino":https://vbnightlife.com/profile/NicoleMax
 ino
ATTACH;FMTTYPE="image/jpeg":http://storage.ning.com/topology/rest/1.0/
 file/get/1664073355?profile=original
ATTENDEE;ROLE=REQ-PARTICIPANT;PARTSTAT=ACCEPTED;RSVP=TRUE;CN="Nicole M
 axino":https://vbnightlife.com/profile/NicoleMaxino
END:VEVENT
END:VCALENDAR
