BEGIN:VCALENDAR
PRODID:NingEventWidget-v1
VERSION:2.0
METHOD:PUBLISH
BEGIN:VEVENT
UID:2508951:Event:5427
DTSTAMP:20260425T185216Z
SUMMARY:Chesapeake Bay Wine Classic - Grand Tasting
DESCRIPTION:Our Grand Tasting guests will have the opportunity to samp
 le hundreds of the finest wines from around the world, attend educatio
 nal seminars, sample wonderful cuisine from local chefs and take their
  best shot at our wine-themed silent auction. Tickets are $75 and incl
 ude the seminar of your choice. Sign up early because these wonderful 
 seminars fill up quickly!\nLocation\nWyndham Virginia Beach Oceanfront
 \n\nDate\nSunday, April 5, 2009\nSeminars begin at 3:00pm\nGrand Tasti
 ng 4:00-7:00pm\n\nParticipating Restaurants\nAbbey Road\nEurasia\nBard
 o\nFresh Events by Farm Fresh\nLucky Oyster Seafood Grill\nOne Fish Tw
 o Fish\nRiverstone Chop House\nSonoma Wine Bar & Bistro\nStill Worldly
  Eclectic Tapas\nSurf Club Ocean Grill\nVintage Tavern\nCaptain Groovy
 ’s Grill & Raw bar\nCoco Cupcakes\nPisces\nPrima 116\nSchakolad\n\nF
 eatured Wineries\nMore than 200 different wineries from around the wor
 ld featuring more than 300 wines\n\nValet parking is available on site
  for the flat rate of $5.00.\n\nSeminar information is coming soon!\n\
 nFor more information on CBWC, call 757-200-9463\n\nFor more informati
 on visit https://vbnightlife.com/events/chesapeake-bay-wine-classic
DTSTART:20090405T190000Z
DTEND:20090405T230000Z
CATEGORIES:wine, tasting
LOCATION:Wyndham Virginia Beach Oceanfront
WEBSITE:
URL:
CONTACT:
ORGANIZER:Chesapeake Bay Wine Classic
ATTACH;FMTTYPE="image/jpeg":http://storage.ning.com/topology/rest/1.0/
 file/get/1664068710?profile=original
ATTENDEE;ROLE=REQ-PARTICIPANT;PARTSTAT=ACCEPTED;RSVP=TRUE;CN="Sandi Va
 kos":https://vbnightlife.com/profile/SandiVakos
ATTENDEE;ROLE=REQ-PARTICIPANT;PARTSTAT=ACCEPTED;RSVP=TRUE;CN="Nicole M
 axino":https://vbnightlife.com/profile/NicoleMaxino
END:VEVENT
END:VCALENDAR
