BEGIN:VCALENDAR
PRODID:NingEventWidget-v1
VERSION:2.0
METHOD:PUBLISH
BEGIN:VEVENT
UID:2508951:Event:51045
DTSTAMP:20260420T121855Z
SUMMARY:CHESAPEAKE BAY WINE CLASSIC FOUNDATION - GRAND AUCTION
DESCRIPTION:\nThe Grand Auction\n\nNovember 12, 2011\n\nThe Grand Auct
 ion is the largest and most successful wine auction in the Commonwealt
 h of Virginia and we are looking forward to another amazing event on N
 ovember 12, 2011. Activities begin at noon with the Preview Reception
  featuring gourmet cuisine prepared by 8 of the region’s top chefs
  complemented by exquisite champagnes and wines. In addition to rare a
 nd highly collectible wines, guests can bid on trips ranging from long
  weekends to exotic vacations; dining at many of the area’s best res
 taurants; luxury merchandise and unique lifestyle packages. The festiv
 ities take place overlooking the Lynnhaven River at the home of Eleano
 r and Bob Stanton on the grounds of the Bayville Golf Club in Virgini
 a Beach. We hope to see you there!\nWe have many extraordinary lots in
  our auction this year including and a Wine Aficionado’s African Sa
 fari donated byAfrican Temptations, Inc., A Week in Wine Country at 
 Calistoga Ranch Napa Valleyand a Weekend of Wine and NASCAR with Adob
 e Road!\n21st Annual Grand Auction Auctioneers\nFritz Hatton\nJamie Po
 llack\n2011 Sponsors\nContact wineclassic@cox.net or 757.200.9463 for 
 more information!\nPurchase individual tickets ~ CALL 757-200-9463 ~\n
 Register your table CLICK HERE\nParticipating Wineries\n\nAratas Win
 ery\nAraujo Estate Wines\nArietta\n\n\nBevan Cellars\nBOND\nColgin Cel
 lars\nDonelan Family Wines\nFaust\nFlowers Vineyard and Winery\nFuto W
 ine\nGrace Family Vineyard\nHarlan\nHendry Ranch Wines\nKapcsandy Fami
 ly Winery\nKelham Winery\nKen Wright Cellars\nPhilip Togni Vineyard\nP
 ride Mountain Vineyards\nQuintessa\nRetour Wines\nStanton Wines\nTierr
 a Roja Vineyard\nTrespass Vineyard and Winery\n\nParticipating Chefs:\
 nChase Barton, Burton’s Grill\nMcKenzie Hess, Sonoma Wine Bar & Bist
 ro\nBobby Huber, Steinhilber’s\nTodd Jurich, Todd Jurich’s 21st Ce
 ntury Burger Bar\nRodney Einhorn, Terrapin Restaurant\nJerry Weihbrech
 t, Zoe’s Restaruant\nAlvin Williams, Cobalt Grille\nJesse Wykle, Eur
 asia Cafe & Wine Bar\nAlso Catering By:\nChessie Oysters\nFresh Events
  by Farm Fresh\nJust Cupcakes\nSavor the Olive\n \n\n\n\nFor more inf
 ormation visit https://vbnightlife.com/events/chesapeake-bay-wine-clas
 sic-3
DTSTART:20111112T170000Z
DTEND:20111112T230000Z
CATEGORIES:fundraiser
LOCATION:BAYVILLE GOLF CLUB
WEBSITE:
URL:
CONTACT:
ORGANIZER:Chesapeake Bay Foundation
ATTACH;FMTTYPE="image/jpeg":http://storage.ning.com/topology/rest/1.0/
 file/get/1664121251?profile=original
ATTENDEE;ROLE=REQ-PARTICIPANT;PARTSTAT=ACCEPTED;RSVP=TRUE;CN="VBnightl
 ife.com":https://vbnightlife.com/profile/admin
END:VEVENT
END:VCALENDAR
