BEGIN:VCALENDAR
PRODID:NingEventWidget-v1
VERSION:2.0
METHOD:PUBLISH
BEGIN:VEVENT
UID:2508951:Event:189020
DTSTAMP:20260423T100130Z
SUMMARY:Cheap Skate Night at Haygood  Roller Skating!
DESCRIPTION:\n2 Admission\n$2 Skate Rentals\n$2 Food Specials\n2 for 1
  Bowling\n\n\nFor more information visit https://vbnightlife.com/event
 s/cheap-skate-night-at-haygood-roller-skating
DTSTART:20120219T233000Z
DTEND:20120220T020000Z
CATEGORIES:skating, "skate party", "cheap skating"
LOCATION:Haygood Roller Skating
WEBSITE:
URL:
CONTACT:
ORGANIZER;CN="VBnightlife.com":https://vbnightlife.com/profile/admin
ATTACH;FMTTYPE="image/jpeg":http://storage.ning.com/topology/rest/1.0/
 file/get/1664160289?profile=original
ATTENDEE;ROLE=REQ-PARTICIPANT;PARTSTAT=ACCEPTED;RSVP=TRUE;CN="Rolan St
 ears":https://vbnightlife.com/profile/RolanStears
ATTENDEE;ROLE=REQ-PARTICIPANT;PARTSTAT=ACCEPTED;RSVP=TRUE;CN="VBnightl
 ife.com":https://vbnightlife.com/profile/admin
END:VEVENT
END:VCALENDAR
