BEGIN:VCALENDAR
PRODID:NingEventWidget-v1
VERSION:2.0
METHOD:PUBLISH
BEGIN:VEVENT
UID:2508951:Event:13741
DTSTAMP:20260421T075007Z
SUMMARY:Charles Darden in Concert
DESCRIPTION:Charles Darden in concert at the intimate Little Theater i
 n Smithfield VA. Tickets go on sale June 26. All tickets are $20.\n\nF
 or more information visit https://vbnightlife.com/events/charles-darde
 n-in-concert
DTSTART:20090822T230000Z
DTEND:20090823T011500Z
CATEGORIES:concert
LOCATION:Smithfield's Little Theater
WEBSITE:http://www.smithfieldmusic.org
URL:http://www.smithfieldmusic.org
CONTACT:757-357-7891
ORGANIZER:Smithfield Music and Arts
ATTACH;FMTTYPE="image/jpeg":
ATTENDEE;ROLE=REQ-PARTICIPANT;PARTSTAT=ACCEPTED;RSVP=TRUE;CN="Charles 
 Darden":https://vbnightlife.com/profile/CharlesDarden
END:VEVENT
END:VCALENDAR
