BEGIN:VCALENDAR
PRODID:NingEventWidget-v1
VERSION:2.0
METHOD:PUBLISH
BEGIN:VEVENT
UID:2508951:Event:197068
DTSTAMP:20260423T004140Z
SUMMARY:Chalk the Walk ARTsplosion
DESCRIPTION:At Chalk the Walk ARTsplosion, participants draw four-by-f
 our foot chalk drawings right on the boardwalk!  Chalk the Walk parti
 cipants are asked to incorporate the announced theme in their work. 20
 0 competitors complete chalk drawings to be evaluated by a panel of ju
 dges.  Judges score the drawings according to criteria such as compos
 ition, use of color, adherence to theme, and creativity.  There are t
 hree competitive divisions: Amateur, Professional, and Youth.  The Yo
 uth division is for ages 12-16.  Children 11 and under are invited to
  draw for fun in a separate area.  Trophies and cash prizes are award
 ed for each division.  The event runs from 10:00am-5:00pm.  Advance 
 registration for Chalk the Walk is not required.  There is no fee to 
 participate.\n \nTrophies and cash prizes are awarded for each divisi
 on.  The event runs from 10:00am-5:00pm.  Advance registration for C
 halk the Walk is not required.  There is no fee to participate. ***Yo
 u must be registered by 1:00 pm to qualify for the competition. All dr
 awings must be completed by 3:30 pm. ***\n\nFor more information visit
  https://vbnightlife.com/events/chalk-the-walk-artsplosion-3
DTSTART:20120707T140000Z
DTEND:20120707T210000Z
CATEGORIES:"virginia beach events", "virginia beach summer", "virginia
  beach family events", "beach street usa"
LOCATION:Boardwalk & 16th, 17th & 18th Streets
WEBSITE:http://www.beachstreetusa.com/events/ChalkTheWalkARTsplosion
URL:http://www.beachstreetusa.com/events/ChalkTheWalkARTsplosion
CONTACT:
ORGANIZER;CN="VBnightlife.com":https://vbnightlife.com/profile/admin
ATTACH;FMTTYPE="image/jpeg":http://storage.ning.com/topology/rest/1.0/
 file/get/1664171928?profile=original
ATTENDEE;ROLE=REQ-PARTICIPANT;PARTSTAT=ACCEPTED;RSVP=TRUE;CN="VBnightl
 ife.com":https://vbnightlife.com/profile/admin
END:VEVENT
END:VCALENDAR
