BEGIN:VCALENDAR
PRODID:NingEventWidget-v1
VERSION:2.0
METHOD:PUBLISH
BEGIN:VEVENT
UID:2508951:Event:7763
DTSTAMP:20260425T185216Z
SUMMARY:CAROLINA / DUKE GAME @ SHOREBREAK
DESCRIPTION:4PM\n\nFor more information visit https://vbnightlife.com/
 events/carolina-duke-game
DTSTART:20090308T200000Z
DTEND:20090309T000000Z
CATEGORIES:live, music
LOCATION:Shorebreak
WEBSITE:
URL:
CONTACT:
ORGANIZER:Shorebreak
ATTACH;FMTTYPE="image/jpeg":http://storage.ning.com/topology/rest/1.0/
 file/get/1664069789?profile=original
ATTENDEE;ROLE=REQ-PARTICIPANT;PARTSTAT=ACCEPTED;RSVP=TRUE;CN="Nicole M
 axino":https://vbnightlife.com/profile/NicoleMaxino
END:VEVENT
END:VCALENDAR
