BEGIN:VCALENDAR
PRODID:NingEventWidget-v1
VERSION:2.0
METHOD:PUBLISH
BEGIN:VEVENT
UID:2508951:Event:157836
DTSTAMP:20260423T202044Z
SUMMARY:CARBON JAM CD RELEASE PARTY AT THE JEWISH MOTHER
DESCRIPTION:Come join us for Carbon Jam's CD release party tomorrow ni
 ght 8-11 p.m. @ The Jewish Mother Hilltop!! Carbon Jam's new CD entitl
 ed  \"I Miss You\"  is now available on iTunes @ the link below and 
 will be available @ the show. Also, just announced, Carbon Jam will be
  opening for Jefferson Starship on Wednesday, July 27 @ The Jefferson 
 Theater in Charlottesville. Go to www.jeffersontheater.com for tix. 
 Then, Carbon Jam is off to play Floydfest, 7/28-7/30. www.floydfest.c
 om . Hope to see you. Go to iTunes NOW and buy the EP and come ready
  to sing along with new Carbon Jam tunes on Sunday night!!!\"  http:/
 /itunes.apple.com/us/album/ill-miss-you-ep/id446121362\n\n\n\nFor more
  information visit https://vbnightlife.com/events/carbon-jam-cd-releas
 e-party-at
DTSTART:20110718T000000Z
DTEND:20110718T030000Z
CATEGORIES:"cd release party"
LOCATION:THE JEWISH MOTHER - HILLTOP
WEBSITE:
URL:
CONTACT:
ORGANIZER;CN="VBnightlife.com":https://vbnightlife.com/profile/admin
ATTACH;FMTTYPE="image/jpeg":http://storage.ning.com/topology/rest/1.0/
 file/get/1664147322?profile=original
ATTENDEE;ROLE=REQ-PARTICIPANT;PARTSTAT=ACCEPTED;RSVP=TRUE;CN="VBnightl
 ife.com":https://vbnightlife.com/profile/admin
ATTENDEE;ROLE=REQ-PARTICIPANT;PARTSTAT=ACCEPTED;RSVP=TRUE;CN="Brenton 
 J. Crowell":https://vbnightlife.com/profile/BrentonJCrowell
END:VEVENT
END:VCALENDAR
