BEGIN:VCALENDAR
PRODID:NingEventWidget-v1
VERSION:2.0
METHOD:PUBLISH
BEGIN:VEVENT
UID:2508951:Event:6792
DTSTAMP:20260422T103115Z
SUMMARY:CANCELLED !!!!!!!!!!!!!!!!!!!JEAN ROCA & MICHAEL HENSEN @ THE 
 HALF SHELL
DESCRIPTION:LIVE\n\nFor more information visit https://vbnightlife.com
 /events/cancelled-jean-roca-michael
DTSTART:20090303T050000Z
DTEND:20090304T045900Z
CATEGORIES:live, music
LOCATION:The Half Shell
WEBSITE:
URL:
CONTACT:
ORGANIZER:The Half Shell
ATTACH;FMTTYPE="image/jpeg":http://storage.ning.com/topology/rest/1.0/
 file/get/1664069079?profile=original
ATTENDEE;ROLE=REQ-PARTICIPANT;PARTSTAT=ACCEPTED;RSVP=TRUE;CN="Nicole M
 axino":https://vbnightlife.com/profile/NicoleMaxino
END:VEVENT
END:VCALENDAR
