BEGIN:VCALENDAR
PRODID:NingEventWidget-v1
VERSION:2.0
METHOD:PUBLISH
BEGIN:VEVENT
UID:2508951:Event:199873
DTSTAMP:20260422T224533Z
SUMMARY:Calypso Heats Up the Boardwalk with MOCEAN
DESCRIPTION:Think summer can't get any hotter? Come to Calypso, the h
 ottest spot at the oceanfront, and join MOCEAN as we heat up the night
 . Then cool off with your favorite Bucket List beverage.  Come early 
 for dinner, we're on 5-9pm and then hang out. That's right, MOCEAN is 
 back at Calypso Bar and Grill.\n\nFor more information visit https://v
 bnightlife.com/events/calypso-heats-up-the-boardwalk-with-mocean
DTSTART:20120720T210000Z
DTEND:20120721T010000Z
CATEGORIES:party, funpeople, greatfood, colddrinks, livemusic, fridayn
 ight
LOCATION:Boardwalk and 11th Street
WEBSITE:https://maps.google.com/maps?q=1100+Atlantic+Avenue,+Virginia+
 Beach,+VA&hl=en&ll=36.839695,-75.972723&spn=0.003924,0.008336&sll=36.8
 39581,-75.972695&layer=c&cbp=13,60.74,,0,10.23&cbll=36.839562,-75.9726
 89&hnear=1100+Atlantic+Ave,+Virginia+Beach,+Virginia+23451&t=m&z=17&pa
 noid=6hioGytxmpCm948EZIsS0A
URL:https://maps.google.com/maps?q=1100+Atlantic+Avenue,+Virginia+Beac
 h,+VA&hl=en&ll=36.839695,-75.972723&spn=0.003924,0.008336&sll=36.83958
 1,-75.972695&layer=c&cbp=13,60.74,,0,10.23&cbll=36.839562,-75.972689&h
 near=1100+Atlantic+Ave,+Virginia+Beach,+Virginia+23451&t=m&z=17&panoid
 =6hioGytxmpCm948EZIsS0A
CONTACT:(757) 428-1972
ORGANIZER:MOCEAN and Calypso Bar and Grill
ATTACH;FMTTYPE="image/jpeg":http://storage.ning.com/topology/rest/1.0/
 file/get/1664173915?profile=original
ATTENDEE;ROLE=REQ-PARTICIPANT;PARTSTAT=ACCEPTED;RSVP=TRUE;CN=MOCEAN:ht
 tps://vbnightlife.com/profile/RalphJGargiulo
END:VEVENT
END:VCALENDAR
