BEGIN:VCALENDAR
PRODID:NingEventWidget-v1
VERSION:2.0
METHOD:PUBLISH
BEGIN:VEVENT
UID:2508951:Event:12756
DTSTAMP:20260425T130000Z
SUMMARY:BUTTER @ TIKI BAR
DESCRIPTION:Tiki Bar in Sandbridge\n\n9:30 to 1:30am\n\nFor more infor
 mation visit https://vbnightlife.com/events/butter-tiki-bar
DTSTART:20090509T040000Z
DTEND:20090510T035900Z
CATEGORIES:band
LOCATION:Virginia Beach
WEBSITE:
URL:
CONTACT:
ORGANIZER:Tiki Seagrille
ATTACH;FMTTYPE="image/jpeg":http://storage.ning.com/topology/rest/1.0/
 file/get/1664073078?profile=original
ATTENDEE;ROLE=REQ-PARTICIPANT;PARTSTAT=ACCEPTED;RSVP=TRUE;CN="Nicole M
 axino":https://vbnightlife.com/profile/NicoleMaxino
END:VEVENT
END:VCALENDAR
