BEGIN:VCALENDAR
PRODID:NingEventWidget-v1
VERSION:2.0
METHOD:PUBLISH
BEGIN:VEVENT
UID:2508951:Event:3513
DTSTAMP:20260423T112804Z
SUMMARY:BUTTER @ South Beach Grill
DESCRIPTION:Local's Favorite will be rocking South Beach Grill TONIGHT
 !\n\n9:30 TO CLOSE\n\nFor more information visit https://vbnightlife.c
 om/events/butter-south-beach-grill
DTSTART:20120224T050000Z
DTEND:20120225T045900Z
CATEGORIES:live, music
LOCATION:south beach grill
WEBSITE:
URL:
CONTACT:
ORGANIZER:south beach grill
ATTACH;FMTTYPE="image/jpeg":http://storage.ning.com/topology/rest/1.0/
 file/get/3723679782?profile=original
ATTENDEE;ROLE=REQ-PARTICIPANT;PARTSTAT=ACCEPTED;RSVP=TRUE;CN="Nicole M
 axino":https://vbnightlife.com/profile/NicoleMaxino
ATTENDEE;ROLE=REQ-PARTICIPANT;PARTSTAT=ACCEPTED;RSVP=TRUE;CN="Rhonda G
 ardner Derring":https://vbnightlife.com/profile/Rhonda
ATTENDEE;ROLE=REQ-PARTICIPANT;PARTSTAT=TENTATIVE;RSVP=TRUE;CN="Troy D'
 angelo":https://vbnightlife.com/profile/TroyDangelo
END:VEVENT
END:VCALENDAR
