BEGIN:VCALENDAR
PRODID:NingEventWidget-v1
VERSION:2.0
METHOD:PUBLISH
BEGIN:VEVENT
UID:2508951:Event:19377
DTSTAMP:20260424T225958Z
SUMMARY:BUTTER @ SOUTH BEACH GRILL!!!!!!!!
DESCRIPTION:VBNIGHTLIFE CREW WILL BE IN THE HOUSE!\n9:30\n\nFor more i
 nformation visit https://vbnightlife.com/events/butter-south-beach-gri
 ll-3
DTSTART:20110413T040000Z
DTEND:20110414T035900Z
CATEGORIES:band
LOCATION:Virginia Beach
WEBSITE:
URL:
CONTACT:
ORGANIZER;CN="VBnightlife.com":https://vbnightlife.com/profile/admin
ATTACH;FMTTYPE="image/jpeg":http://storage.ning.com/topology/rest/1.0/
 file/get/1664082331?profile=original
ATTENDEE;ROLE=REQ-PARTICIPANT;PARTSTAT=ACCEPTED;RSVP=TRUE;CN="VBnightl
 ife.com":https://vbnightlife.com/profile/admin
ATTENDEE;ROLE=REQ-PARTICIPANT;PARTSTAT=ACCEPTED;RSVP=TRUE;CN="Rhonda G
 ardner Derring":https://vbnightlife.com/profile/Rhonda
ATTENDEE;ROLE=REQ-PARTICIPANT;PARTSTAT=ACCEPTED;RSVP=TRUE;CN="Scott Cr
 ews":https://vbnightlife.com/profile/ScottCrews
END:VEVENT
END:VCALENDAR
