BEGIN:VCALENDAR
PRODID:NingEventWidget-v1
VERSION:2.0
METHOD:PUBLISH
BEGIN:VEVENT
UID:2508951:Event:12764
DTSTAMP:20260425T113515Z
SUMMARY:BUTTER @ SOUTH BEACH GRILL
DESCRIPTION:9:30 TO 1:30AM\n\nFor more information visit https://vbnig
 htlife.com/events/butter-south-beach-grill-1
DTSTART:20090513T040000Z
DTEND:20090514T035900Z
CATEGORIES:band
LOCATION:Virginia Beach
WEBSITE:
URL:
CONTACT:
ORGANIZER:Southbeach Grill
ATTACH;FMTTYPE="image/jpeg":http://storage.ning.com/topology/rest/1.0/
 file/get/1664073336?profile=original
ATTENDEE;ROLE=REQ-PARTICIPANT;PARTSTAT=ACCEPTED;RSVP=TRUE;CN=Terry:htt
 ps://vbnightlife.com/profile/Terry
ATTENDEE;ROLE=REQ-PARTICIPANT;PARTSTAT=ACCEPTED;RSVP=TRUE;CN="Nicole M
 axino":https://vbnightlife.com/profile/NicoleMaxino
END:VEVENT
END:VCALENDAR
