BEGIN:VCALENDAR
PRODID:NingEventWidget-v1
VERSION:2.0
METHOD:PUBLISH
BEGIN:VEVENT
UID:2508951:Event:12748
DTSTAMP:20260426T001032Z
SUMMARY:BUTTER @ CROCS
DESCRIPTION:10:30 TO 1:30AM\n\nFor more information visit https://vbni
 ghtlife.com/events/butter-crocs-2
DTSTART:20090507T040000Z
DTEND:20090508T035900Z
CATEGORIES:band
LOCATION:Crocs
WEBSITE:
URL:
CONTACT:
ORGANIZER:Crocs
ATTACH;FMTTYPE="image/jpeg":http://storage.ning.com/topology/rest/1.0/
 file/get/1664074201?profile=original
ATTENDEE;ROLE=REQ-PARTICIPANT;PARTSTAT=ACCEPTED;RSVP=TRUE;CN="Nicole M
 axino":https://vbnightlife.com/profile/NicoleMaxino
END:VEVENT
END:VCALENDAR
