BEGIN:VCALENDAR
PRODID:NingEventWidget-v1
VERSION:2.0
METHOD:PUBLISH
BEGIN:VEVENT
UID:2508951:Event:14004
DTSTAMP:20260421T033028Z
SUMMARY:BUTTER @ CATCH 31
DESCRIPTION:Gazebo stage @ the Hilton\n\nFor more information visit ht
 tps://vbnightlife.com/events/butter-catch-31
DTSTART:20090528T220000Z
DTEND:20090529T020000Z
CATEGORIES:band
LOCATION:Catch 31
WEBSITE:
URL:
CONTACT:
ORGANIZER;CN="Nicole Maxino":https://vbnightlife.com/profile/NicoleMax
 ino
ATTACH;FMTTYPE="image/jpeg":http://storage.ning.com/topology/rest/1.0/
 file/get/1664075305?profile=original
ATTENDEE;ROLE=REQ-PARTICIPANT;PARTSTAT=ACCEPTED;RSVP=TRUE;CN="Nicole M
 axino":https://vbnightlife.com/profile/NicoleMaxino
END:VEVENT
END:VCALENDAR
