BEGIN:VCALENDAR
PRODID:NingEventWidget-v1
VERSION:2.0
METHOD:PUBLISH
BEGIN:VEVENT
UID:2508951:Event:8956
DTSTAMP:20260425T173202Z
SUMMARY:BUTTER @ 15th STREET RAW BAR
DESCRIPTION:Butter!\n\n9:30pm to 1:30am\n\nFor more information visit 
 https://vbnightlife.com/events/butter-15th-street-raw-bar
DTSTART:20090325T040000Z
DTEND:20090326T035900Z
CATEGORIES:live, music
LOCATION:15th Street Raw Bar
WEBSITE:
URL:
CONTACT:
ORGANIZER;CN="Nicole Maxino":https://vbnightlife.com/profile/NicoleMax
 ino
ATTACH;FMTTYPE="image/jpeg":http://storage.ning.com/topology/rest/1.0/
 file/get/1664070447?profile=original
ATTENDEE;ROLE=REQ-PARTICIPANT;PARTSTAT=ACCEPTED;RSVP=TRUE;CN="Nicole M
 axino":https://vbnightlife.com/profile/NicoleMaxino
END:VEVENT
END:VCALENDAR
