BEGIN:VCALENDAR
PRODID:NingEventWidget-v1
VERSION:2.0
METHOD:PUBLISH
BEGIN:VEVENT
UID:2508951:Event:298029
DTSTAMP:20260422T061521Z
SUMMARY:Haunted Hunt Club Farm - Borderline Crazy TONIGHT
DESCRIPTION:Enjoy unlimited access to all 3 Haunted Attractions at H
 unt Club Farm. Purchase here:  www.vbhotdeals.com\n\nThe Haunted Hayr
 ide - The festival’s most-feared attraction takes voyeurs on a bum
 py ride through the deep, dark woods of Haunted Hunt Club Farm\nField 
 of Screams - Revered as the festival’s most up close and personal e
 vent, the dark and winding maze puts thrill-seekers face to face with
  flesh-eating zombies.\nVillage of the Dead - Watch as the the savag
 e village inhabitants imprison, confine and enslave visitors of their 
 torturous town of terror\nVisit each Haunted Attraction as many times 
 as you like between 6:30 and 11:30pm!\nConveniently Located in Virgini
 a Beach 6 miles from the oceanfront\n\n  Purchase your discount tick
 ets here and save $10: www.VBhotdeals.com\n\nDJs Every night in the B
 arn!\n\nEvery Thursday Enjoy Bands and Beer: \n \nOctober 30 Border
 line Crazy\n\n\nFor more information visit https://vbnightlife.com/eve
 nts/brews-boobs-breast-cancer-awareness-party-and-fundraiser-at-hunt-
DTSTART:20141030T040000Z
DTEND:20141031T035900Z
CATEGORIES:fundraiser, "beyond boobs", "haunted hunt club farm", "brew
 s and boobs"
LOCATION:Hunt Club Farm
WEBSITE:
URL:
CONTACT:
ORGANIZER:VBnightlife.com / Sinclair Stations / Hunt Club Farm
ATTACH;FMTTYPE="image/jpeg":http://storage.ning.com/topology/rest/1.0/
 file/get/1664252190?profile=original
ATTENDEE;ROLE=REQ-PARTICIPANT;PARTSTAT=ACCEPTED;RSVP=TRUE;CN="VBnightl
 ife.com":https://vbnightlife.com/profile/admin
END:VEVENT
END:VCALENDAR
