BEGIN:VCALENDAR
PRODID:NingEventWidget-v1
VERSION:2.0
METHOD:PUBLISH
BEGIN:VEVENT
UID:2508951:Event:347034
DTSTAMP:20260419T161503Z
SUMMARY:Brew 'n 'Que and Oysters Too - Benefit for the Ability Center 
 of VA
DESCRIPTION:\n\nFor more information visit https://vbnightlife.com/eve
 nts/brew-n-que-and-oysters-too-benefit-for-the-ability-center-of-va
DTSTART:20170930T160000Z
DTEND:20170930T200000Z
CATEGORIES:fundraiser
LOCATION:Sunset Beach Resort
WEBSITE:
URL:
CONTACT:
ORGANIZER;CN="VBnightlife.com":https://vbnightlife.com/profile/admin
ATTACH;FMTTYPE="image/jpeg":http://storage.ning.com/topology/rest/1.0/
 file/get/1664317012?profile=original
ATTENDEE;ROLE=REQ-PARTICIPANT;PARTSTAT=ACCEPTED;RSVP=TRUE;CN="VBnightl
 ife.com":https://vbnightlife.com/profile/admin
END:VEVENT
END:VCALENDAR
