BEGIN:VCALENDAR
PRODID:NingEventWidget-v1
VERSION:2.0
METHOD:PUBLISH
BEGIN:VEVENT
UID:2508951:Event:350383
DTSTAMP:20260419T130257Z
SUMMARY:Brew 'n 'Que and Oysters Too - Benefit for the Ability Center 
 of VA
DESCRIPTION:\n\nFor more information visit https://vbnightlife.com/eve
 nts/brew-n-que-and-oysters-too-benefit-for-the-ability-center-of-va-1
DTSTART:20180809T220000Z
DTEND:20180809T230000Z
CATEGORIES:fundraiser
LOCATION:Sunset Beach Resort
WEBSITE:
URL:
CONTACT:
ORGANIZER;CN="VBnightlife.com":https://vbnightlife.com/profile/admin
ATTACH;FMTTYPE="image/jpeg":
ATTENDEE;ROLE=REQ-PARTICIPANT;PARTSTAT=ACCEPTED;RSVP=TRUE;CN="VBnightl
 ife.com":https://vbnightlife.com/profile/admin
END:VEVENT
END:VCALENDAR
