BEGIN:VCALENDAR
PRODID:NingEventWidget-v1
VERSION:2.0
METHOD:PUBLISH
BEGIN:VEVENT
UID:2508951:Event:170563
DTSTAMP:20260420T121859Z
SUMMARY:Bra-ha-ha Awards Show & Auction
DESCRIPTION:Proceeds from the Bra-ha-ha are used to provide mammograms
  & related services for women in need and to raise awareness about bre
 ast cancer.\n \nAwards will be presented by First Lady Maureen McDonn
 ell, Miss United States, Rep. Randy Forbes, Mayor Alan Krasnoff and TV
  & Radio personalities.\n\nGo here to purchase your tickets today:\nht
 tp://www.brahaha.org/tickets.php?cid=2\n\nFor more information visit h
 ttps://vbnightlife.com/events/bra-ha-ha-awards-show-auction
DTSTART:20110930T230000Z
DTEND:20111001T030000Z
CATEGORIES:fundraiser, "chesapeake events", "breast cancer awareness"
LOCATION:Chesapeake Conference Center
WEBSITE:
URL:
CONTACT:
ORGANIZER:bra-ha-ha /VBnightlife.com
ATTACH;FMTTYPE="image/jpeg":http://storage.ning.com/topology/rest/1.0/
 file/get/1664150429?profile=original
ATTENDEE;ROLE=REQ-PARTICIPANT;PARTSTAT=ACCEPTED;RSVP=TRUE;CN="VBnightl
 ife.com":https://vbnightlife.com/profile/admin
END:VEVENT
END:VCALENDAR
