BEGIN:VCALENDAR
PRODID:NingEventWidget-v1
VERSION:2.0
METHOD:PUBLISH
BEGIN:VEVENT
UID:2508951:Event:105209
DTSTAMP:20260421T195138Z
SUMMARY:Bourbon Dinner @ The Green Onion
DESCRIPTION:With Special Guest, JIMMY RUSSELL, Master Distiller of Wil
 d Turkey for 54 years!\n\nFour Chef-prepared courses will be creativel
 y paired with the following Wild Turkey collections:\n\nSpecial Reserv
 e\nRare Breed\nAmerican Honey\nRussell’s Reserve Rye 10 Year\nHerita
 ge\n \nCigars will be available from Churchill Cigars\n \nBring your
  own bottle of Wild Turkey to be autographed by Jimmy Russell!\n \nTu
 esday April 26th\nTwo seatings\n5:30 PM & 8:30 PM\n$70 each/$130 coupl
 e\n Tickets must be purchased in advance, hurry limited seating avail
 able!\n(757)248-3474\n\n \n\nFor more information visit https://vbnig
 htlife.com/events/bourbon-dinner-the-green
DTSTART:20110426T213000Z
DTEND:20110427T023000Z
CATEGORIES:"virginia beach events", "virginia beach celebrity appearan
 ce", "virginia beach spirits"
LOCATION:The Green Onion
WEBSITE:
URL:
CONTACT:
ORGANIZER:VBnightlife.com / VBdaylife.com
ATTACH;FMTTYPE="image/jpeg":http://storage.ning.com/topology/rest/1.0/
 file/get/1664140575?profile=original
ATTENDEE;ROLE=REQ-PARTICIPANT;PARTSTAT=ACCEPTED;RSVP=TRUE;CN="Bobi Par
 tin":https://vbnightlife.com/profile/happy
ATTENDEE;ROLE=REQ-PARTICIPANT;PARTSTAT=ACCEPTED;RSVP=TRUE;CN="VBnightl
 ife.com":https://vbnightlife.com/profile/admin
END:VEVENT
END:VCALENDAR
