BEGIN:VCALENDAR
PRODID:NingEventWidget-v1
VERSION:2.0
METHOD:PUBLISH
BEGIN:VEVENT
UID:2508951:Event:14189
DTSTAMP:20260425T125914Z
SUMMARY:BORDERLINE CRAZY @ CATCH 31
DESCRIPTION:6 TO 10\n\nFor more information visit https://vbnightlife.
 com/events/borderline-crazy-catch-31
DTSTART:20090601T220000Z
DTEND:20090602T020000Z
CATEGORIES:band
LOCATION:CATCH 31 - THE HILTON
WEBSITE:
URL:
CONTACT:
ORGANIZER;CN="Nicole Maxino":https://vbnightlife.com/profile/NicoleMax
 ino
ATTACH;FMTTYPE="image/jpeg":http://storage.ning.com/topology/rest/1.0/
 file/get/1664074412?profile=original
ATTENDEE;ROLE=REQ-PARTICIPANT;PARTSTAT=ACCEPTED;RSVP=TRUE;CN="Nicole M
 axino":https://vbnightlife.com/profile/NicoleMaxino
END:VEVENT
END:VCALENDAR
