BEGIN:VCALENDAR
PRODID:NingEventWidget-v1
VERSION:2.0
METHOD:PUBLISH
BEGIN:VEVENT
UID:2508951:Event:302340
DTSTAMP:20260423T222640Z
SUMMARY:BLUEWATER FOUNDATION BENEFIT
DESCRIPTION:\n \n\nFor more information visit https://vbnightlife.com
 /events/bluewater-foundation-benefit
DTSTART:20141123T223000Z
DTEND:20141124T010000Z
CATEGORIES:fundraiser, "blue water foundation"
LOCATION:TEMPT RESTAURANT AND LOUNGE
WEBSITE:
URL:
CONTACT:
ORGANIZER:VBnightlife.com / VBdaylife.com / VBhotdeals.com
ATTACH;FMTTYPE="image/jpeg":http://storage.ning.com/topology/rest/1.0/
 file/get/1664256014?profile=original
ATTENDEE;ROLE=REQ-PARTICIPANT;PARTSTAT=ACCEPTED;RSVP=TRUE;CN="Rolan St
 ears":https://vbnightlife.com/profile/RolanStears
ATTENDEE;ROLE=REQ-PARTICIPANT;PARTSTAT=ACCEPTED;RSVP=TRUE;CN="VBnightl
 ife.com":https://vbnightlife.com/profile/admin
END:VEVENT
END:VCALENDAR
