BEGIN:VCALENDAR
PRODID:NingEventWidget-v1
VERSION:2.0
METHOD:PUBLISH
BEGIN:VEVENT
UID:2508951:Event:21753
DTSTAMP:20260425T084154Z
SUMMARY:BLUES AT THE BEACH - 17TH STREET STAGE
DESCRIPTION:Blues at the Beach\n\nEvent Date:\nSep 11 2009 - Sep 13 20
 09\nLocation:\n17th Street Park\nCelebrating one of the most cherished
  musical genres of all time, Blues at the Beach features three days of
  free concerts on an outdoor stage. Local, regional, and nationally-re
 cognized Blues acts share the stage for a riveting and heartfelt tribu
 te to the sights, sounds, and soul of the American experience.\n\nHead
 liners like E.G. Kight and Deborah Coleman have brought their intensit
 y and knockout live performances to Virginia Beach. Performers who are
  talented writers, singers, and guitar players have appeared at the fe
 stival and enthralled Blues enthusiasts. Blues stars James Harman, Ter
 ry Garland, Billy Boy Arnold, and many like them, have presented stand
 out performances at the Virginia Beach oceanfront.\n\nInstrumental wor
 kshops, led by Natchel’ Blues Network personnel and festival perform
 ers, are offered free to spectators.\n\nEntertainment Schedule\n\nFrid
 ay, September 11\n7:15pm-8:15pm, Buddy Parker Band\n8:45pm-10:30pm, Li
 ’l Ronnie’s Blues Harmonica Revue (with Li’l Ronnie & the Grand 
 Dukes, R.J. Mischo, Jumpin’ Johnny Sansone, and Mel Melton)\n\nSatur
 day, September 12\n2:00pm-3:00pm, Planet Full of Blues\n3:00pm-3:30pm,
  Dirt Cheap Blues Exchange Dance Workshop\n3:45pm-4:45pm, Matt Wigler\
 n4:45pm-5:15pm, NBN Blues Workshop\n5:30pm-6:45pm, JW-Jones Blues Band
  with Little Charlie Baty\n7:15pm-8:30pm, Sherman Robertson\n9:00pm-10
 :30pm, Eddy “The Chief” Clearwater\n\nSunday, September 13\nNoon-1
 :00pm, The Blue Cats\n1:00pm-1:30pm, NBN Blues Workshop\n1:45pm-3:00pm
 , Nick Curran\n3:30pm-5:00pm, Deanna Bogart Band\n\nFor more informati
 on visit https://vbnightlife.com/events/blues-at-the-beach-17th
DTSTART:20090913T040000Z
DTEND:20090914T035900Z
CATEGORIES:band
LOCATION:Virginia Beach
WEBSITE:
URL:
CONTACT:
ORGANIZER;CN="VBnightlife.com":https://vbnightlife.com/profile/admin
ATTACH;FMTTYPE="image/jpeg":http://storage.ning.com/topology/rest/1.0/
 file/get/1664089132?profile=original
ATTENDEE;ROLE=REQ-PARTICIPANT;PARTSTAT=ACCEPTED;RSVP=TRUE;CN="VBnightl
 ife.com":https://vbnightlife.com/profile/admin
END:VEVENT
END:VCALENDAR
