BEGIN:VCALENDAR
PRODID:NingEventWidget-v1
VERSION:2.0
METHOD:PUBLISH
BEGIN:VEVENT
UID:2508951:Event:261041
DTSTAMP:20260421T105944Z
SUMMARY:Blood, Sweat, & Tears with special guest Brass Transit
DESCRIPTION:It’s been more than four decades since drummer/producer 
 Bobby Colomby and friends assembled the first group to successfully bl
 end rock and jazz into a genre-crossing sound and style. So successful
 ly, in fact, that the band’s second album, “Blood, Sweat & Tears,
  topped the Billboard charts, beat out the Beatles’ “Abbey Road
  for Grammy Album of the Year, and produced three major hit singles,
  “You Made Me So Very Happy,” “Spinning Wheel” and “And When
  I Die.” Blood, Sweat & Tears will take the stage to perform their h
 its with the same unbridled enthusiasm as yesteryear. The band will al
 so introduce some new elements into every performance, including a seg
 ment devoted to “Songs We Wish We’d Recorded,” done in classic B
 , S & T style. Opening the evening is Brass Transit, a Chicago tribute
  band playing all the hits from Chicago’s golden age.\n\nFor more in
 formation visit https://vbnightlife.com/events/blood-sweat-tears-with-
 special-guest-brass-transit
DTSTART:20140329T000000Z
DTEND:20140329T010000Z
CATEGORIES:concert
LOCATION:Ferguson Center for the Arts
WEBSITE:http://fergusoncenter.org/ai1ec_event/blood-sweat-tears-with-s
 pecial-guest-brass-transit/?instance_id=
URL:http://fergusoncenter.org/ai1ec_event/blood-sweat-tears-with-speci
 al-guest-brass-transit/?instance_id=
CONTACT:757-594-8752
ORGANIZER;CN="Ferguson Center for the Arts":https://vbnightlife.com/pr
 ofile/FergusonCenterfortheArts
ATTACH;FMTTYPE="image/jpeg":http://storage.ning.com/topology/rest/1.0/
 file/get/1664206423?profile=original
ATTENDEE;ROLE=REQ-PARTICIPANT;PARTSTAT=ACCEPTED;RSVP=TRUE;CN="Ferguson
  Center for the Arts":https://vbnightlife.com/profile/FergusonCenterfo
 rtheArts
END:VEVENT
END:VCALENDAR
