BEGIN:VCALENDAR
PRODID:NingEventWidget-v1
VERSION:2.0
METHOD:PUBLISH
BEGIN:VEVENT
UID:2508951:Event:10111
DTSTAMP:20260425T173207Z
SUMMARY:BLACK POWDER BAND @BAYSIDE INN
DESCRIPTION:8:30\ngood ol' southern rock\n\nFor more information visit
  https://vbnightlife.com/events/black-powder-band-bayside-inn
DTSTART:20090402T040000Z
DTEND:20090403T035900Z
CATEGORIES:band
LOCATION:Bayside Inn
WEBSITE:
URL:
CONTACT:
ORGANIZER:Bayside Inn
ATTACH;FMTTYPE="image/jpeg":http://storage.ning.com/topology/rest/1.0/
 file/get/1664070464?profile=original
ATTENDEE;ROLE=REQ-PARTICIPANT;PARTSTAT=ACCEPTED;RSVP=TRUE;CN="Nicole M
 axino":https://vbnightlife.com/profile/NicoleMaxino
END:VEVENT
END:VCALENDAR
