BEGIN:VCALENDAR
PRODID:NingEventWidget-v1
VERSION:2.0
METHOD:PUBLISH
BEGIN:VEVENT
UID:2508951:Event:302863
DTSTAMP:20260423T103839Z
SUMMARY:BLACK FRIDAY SAVINGS AT COLONIAL SHOOTING ACADEMY
DESCRIPTION:\n \n\n757-227-9130 | colonialshooting.com | 5070 Virgin
 ia Beach Blvd.\n \n\n\n\n\n\nFor more information visit https://vbnig
 htlife.com/events/black-friday-savings-at-colonial-shooting-academy
DTSTART:20141129T050000Z
DTEND:20141130T045900Z
CATEGORIES:"black friday specials", "colonial shooting academy"
LOCATION:COLONIAL SHOOTING ACADEMY
WEBSITE:
URL:
CONTACT:757-227-9130
ORGANIZER:VBnightlife.com / VBdaylife.com / VBhotdeals.com
ATTACH;FMTTYPE="image/jpeg":http://storage.ning.com/topology/rest/1.0/
 file/get/1664258977?profile=original
ATTENDEE;ROLE=REQ-PARTICIPANT;PARTSTAT=ACCEPTED;RSVP=TRUE;CN="Rolan St
 ears":https://vbnightlife.com/profile/RolanStears
ATTENDEE;ROLE=REQ-PARTICIPANT;PARTSTAT=ACCEPTED;RSVP=TRUE;CN="VBnightl
 ife.com":https://vbnightlife.com/profile/admin
END:VEVENT
END:VCALENDAR
