BEGIN:VCALENDAR
PRODID:NingEventWidget-v1
VERSION:2.0
METHOD:PUBLISH
BEGIN:VEVENT
UID:2508951:Event:6007
DTSTAMP:20260425T225537Z
SUMMARY:BJ Leiderman's Birthday Bash at Otani Japanese Grille
DESCRIPTION:BJ performs with Karl Werne, Eddie Williams and Curtis Ele
 y for his own damn birthday celebration. Join us for Sushi, Saki and S
 ong!\n\nFor more information visit https://vbnightlife.com/events/bj-l
 eidermans-birthday-bash-at
DTSTART:20090212T050000Z
DTEND:20090212T060000Z
CATEGORIES:live, music
LOCATION:Otani Japanese Steak House - Laskin Rd at Hilltop
WEBSITE:
URL:
CONTACT:
ORGANIZER;CN="BJ Leiderman":https://vbnightlife.com/profile/BJLeiderma
 n
ATTACH;FMTTYPE="image/jpeg":http://storage.ning.com/topology/rest/1.0/
 file/get/1664069173?profile=original
ATTENDEE;ROLE=REQ-PARTICIPANT;PARTSTAT=ACCEPTED;RSVP=TRUE;CN="BJ Leide
 rman":https://vbnightlife.com/profile/BJLeiderman
END:VEVENT
END:VCALENDAR
