BEGIN:VCALENDAR
PRODID:NingEventWidget-v1
VERSION:2.0
METHOD:PUBLISH
BEGIN:VEVENT
UID:2508951:Event:7801
DTSTAMP:20260425T201902Z
SUMMARY:BIRTHRIGHT'S CHARITY BOWL VI
DESCRIPTION:Includes three games, snacks; benefits nonprofit emergency
  service Birthright.\n\nAMF Indian River Lanes\n6660 Indian River Road
 \nVirginia Beach\n471 - 7644\nbrnorfolk@verizon.net\n\nFor more inform
 ation visit https://vbnightlife.com/events/birthrights-charity-bowl-vi
DTSTART:20090308T050000Z
DTEND:20090309T035900Z
CATEGORIES:fundraiser
LOCATION:AMF Indian River Lanes
WEBSITE:
URL:
CONTACT:
ORGANIZER:Birthright Charity
ATTACH;FMTTYPE="image/jpeg":
ATTENDEE;ROLE=REQ-PARTICIPANT;PARTSTAT=ACCEPTED;RSVP=TRUE;CN="Nicole M
 axino":https://vbnightlife.com/profile/NicoleMaxino
END:VEVENT
END:VCALENDAR
