BEGIN:VCALENDAR
PRODID:NingEventWidget-v1
VERSION:2.0
METHOD:PUBLISH
BEGIN:VEVENT
UID:2508951:Event:12826
DTSTAMP:20260425T213433Z
SUMMARY:BIRTHDAY BASH @ LUNASEA FEATURING JESSE CHONG
DESCRIPTION:\n\nFor more information visit https://vbnightlife.com/eve
 nts/birthday-bash-lunasea
DTSTART:20090503T220000Z
DTEND:20090504T030000Z
CATEGORIES:band
LOCATION:Lunasea
WEBSITE:
URL:
CONTACT:
ORGANIZER:Lunasea
ATTACH;FMTTYPE="image/jpeg":http://storage.ning.com/topology/rest/1.0/
 file/get/1664074197?profile=original
ATTENDEE;ROLE=REQ-PARTICIPANT;PARTSTAT=ACCEPTED;RSVP=TRUE;CN="Nicole M
 axino":https://vbnightlife.com/profile/NicoleMaxino
END:VEVENT
END:VCALENDAR
