BEGIN:VCALENDAR
PRODID:NingEventWidget-v1
VERSION:2.0
METHOD:PUBLISH
BEGIN:VEVENT
UID:2508951:Event:144943
DTSTAMP:20260424T213553Z
SUMMARY:Bike Night @ Knuckleheads Roadhouse
DESCRIPTION:Bike night at Knuckleheads Roadhouse.\n\nFor more informat
 ion visit https://vbnightlife.com/events/bike-night-knuckleheads
DTSTART:20110609T220000Z
DTEND:20110610T033000Z
CATEGORIES:bike, night
LOCATION:Knuckleheads Roadhouse
WEBSITE:http://www.knuckleheadsvb.com
URL:http://www.knuckleheadsvb.com
CONTACT:757-644-6200
ORGANIZER:
ATTACH;FMTTYPE="image/jpeg":http://storage.ning.com/topology/rest/1.0/
 file/get/1664142898?profile=original
ATTENDEE;ROLE=REQ-PARTICIPANT;PARTSTAT=ACCEPTED;RSVP=TRUE;CN="James Sp
 agnuolo":https://vbnightlife.com/profile/JamesSpagnuolo
END:VEVENT
END:VCALENDAR
