BEGIN:VCALENDAR
PRODID:NingEventWidget-v1
VERSION:2.0
METHOD:PUBLISH
BEGIN:VEVENT
UID:2508951:Event:155428
DTSTAMP:20260423T194134Z
SUMMARY:BIKE NIGHT Every Thursday @ Scandals
DESCRIPTION:BIKE NIGHT & BIKINI CONTEST!\n \n\n\nFor more information
  visit https://vbnightlife.com/events/bike-night-every-thursday
DTSTART:20110901T220000Z
DTEND:20110902T030000Z
CATEGORIES:"virginia beach events", "virginia beach entertainment", "v
 irginia beach motorcycles", "bike night", "virginia beach bands", "sca
 ndals virginia beach"
LOCATION:Scandals
WEBSITE:
URL:
CONTACT:(757) 463-6667
ORGANIZER;CN="VBnightlife.com":https://vbnightlife.com/profile/admin
ATTACH;FMTTYPE="image/jpeg":http://storage.ning.com/topology/rest/1.0/
 file/get/1664146110?profile=original
ATTENDEE;ROLE=REQ-PARTICIPANT;PARTSTAT=ACCEPTED;RSVP=TRUE;CN="Rolan St
 ears":https://vbnightlife.com/profile/RolanStears
ATTENDEE;ROLE=REQ-PARTICIPANT;PARTSTAT=ACCEPTED;RSVP=TRUE;CN="VBnightl
 ife.com":https://vbnightlife.com/profile/admin
END:VEVENT
END:VCALENDAR
