BEGIN:VCALENDAR
PRODID:NingEventWidget-v1
VERSION:2.0
METHOD:PUBLISH
BEGIN:VEVENT
UID:2508951:Event:54636
DTSTAMP:20260419T201605Z
SUMMARY:BIG WIDE GRIN @ DOC TAYLOR'S SEASIDE MARKET LOUNGE
DESCRIPTION:Big Wide Grin\n\nThis bi-coastal trio of Elaine Dempsey, L
 awrence Lambert & Karl Werne, from California and Virginia, bring dive
 rse backgrounds of experience, music and theater together to form a ri
 ch, soulful blend of character and deep harmony. It will move you to a
 n understanding of their name:\nBIG WIDE GRIN.\n\nThey are constantly 
 on the move- whether at festivals, concert series, shows, or select ho
 use concerts and have shared the stage, collectively, with such artist
 s as Janis Ian, Harriett Schock, Lowen & Navarro, Richie Havens, Bruce
  Hornsby and toured with legendary blues man Keb' Mo'.\n\nTheir recent
  seasonal CD, “Holiday” features a wide variety of world class arr
 angers and studio musicians from both coasts, proving to be the most d
 iverse self-produced musical endeavor from this group so far. Guest ar
 tists include ODU Jazz Professor John Toomey, former Kool and the Gang
  bassist, Dana Silvercloud and Dan Martier from Tim Reynolds’ TR3.\n
 \nBWG's \"Live\" release is a collection of original and cover materia
 l that have become trademark favorites of their live performances from
  the likes of Steve Earle and Tracy Chapman to Sly & The Family Stone.
 \n\nTheir debut CD, \"Live Simple, Breathe Deep\" (released under prev
 ious group name: \"E.L.K.\") was produced by Clayton Gibb (Keb' Mo' ba
 nd) and features Mark Andes (Spirit, Canned Heat), Rob Hooper (Jimmie 
 Dale Gilmore), Cha Cha Friedken (Keb' Mo' band) and Eddie Williams.\n\
 nBWG is currently recording tracks for a new release expected this yea
 r.\n\nBooking: Janet Hans janet@bigwidegrin.com (210) 824-1068\n\nMana
 gement: Steve Garvan steve@garvanmanagement.com\n(208) 265-1718\nReply
 :\n\nFor more information visit https://vbnightlife.com/events/big-wid
 e-grin-doc-taylors
DTSTART:20101223T010000Z
DTEND:20101223T040000Z
CATEGORIES:band
LOCATION:Doc Taylor's Seaside Market Lounge
WEBSITE:
URL:
CONTACT:
ORGANIZER;CN="VBnightlife.com":https://vbnightlife.com/profile/admin
ATTACH;FMTTYPE="image/jpeg":http://storage.ning.com/topology/rest/1.0/
 file/get/1664126083?profile=original
ATTENDEE;ROLE=REQ-PARTICIPANT;PARTSTAT=ACCEPTED;RSVP=TRUE;CN=Anita:htt
 ps://vbnightlife.com/profile/Ann61
ATTENDEE;ROLE=REQ-PARTICIPANT;PARTSTAT=ACCEPTED;RSVP=TRUE;CN="VBnightl
 ife.com":https://vbnightlife.com/profile/admin
END:VEVENT
END:VCALENDAR
